Workbook

Sheet IDENTIFICACIÓN
B2: IDENTIFICACIÓN
B3: CENTRO DE TRABAJO | C3: LUGAR DE TRABAJO | D3: TAREAS | E3: PUESTO DE TRABAJO / GES | F3: EXPOSICIÓN | G3: EVALUACIÓN | H3: EMPRESA / TRABAJADOR EXPUESTO | I3: CATEGORÍA | J3: Nº
B4: CENTRO VITORIA | C4: FÁBRICA 1 | D4: Gestión técnica y de seguridad | E4: Direccion técnica | F4: SI | G4: SI | H4: PROPIA | J4: 1
B5: CENTRO VITORIA | C5: FÁBRICA 1 | D5: Control y gestión de personal y producción | E5: Encargado | F5: SI | G5: SI | H5: PROPIA | J5: 2
B6: CENTRO VITORIA | C6: FÁBRICA 1 | D6: Operación y control de la planta de molienda | E6: Operario de molienda | F6: SI | G6: SI | H6: PROPIA | J6: 3
B7: CENTRO VITORIA | C7: FÁBRICA 1 | D7: Operación y control de zona de clasificado | E7: Operario de clasificación | F7: SI | G7: SI | H7: PROPIA | J7: 4
B8: CENTRO VITORIA | C8: FÁBRICA 1 | D8: Ayuda a operario de clasificación | E8: Ayudante operario de clasificación | F8: SI | G8: SI | H8: PROPIA | J8: 5
B9: CENTRO VITORIA | C9: FÁBRICA 1 | D9: Operación y control de zona de ensacado | E9: Operario zona ensacado | F9: SI | G9: SI | H9: PROPIA | J9: 6
B10: CENTRO VITORIA | C10: FÁBRICA 1 | D10: Carga y ejecución voladura | E10: Carretillero | F10: SI | G10: SI | H10: PROPIA | J10: 7
B11: CENTRO VITORIA | C11: FÁBRICA 1 | D11: Tareas de mantenimiento | E11: Operario de mantenimiento | F11: SI | G11: SI | H11: PROPIA | J11: 8
B12: CENTRO VITORIA | C12: FÁBRICA 1 | D12: Transporte material de planta | E12: Operario de camión bañera | F12: SI | G12: SI | H12: PROPIA | J12: 9
B13: CENTRO VITORIA | C13: FÁBRICA 1 | D13: Pesado de material | E13: Bascuslita | F13: SI | G13: SI | H13: PROPIA | J13: 10
B14: CENTRO VITORIA | C14: FÁBRICA 1 | D14: Ejecución y control de ensayos de laboratorio | E14: Técnico de laboratorio | F14: SI | G14: SI | H14: PROPIA | J14: 11

Sheet PARTIDA
A2: DATOS DE PARTIDA PARA EL MUESTREO
A3: ELECCIÓN DEL MUESTREADOR Y VOLUMEN DE MEUSTREO MÍNIMO
A4: POLVO
A5: Muestreador seleccionado: | D5: SKC 2,5
A6: Caudal - l/min: | D6: =VLOOKUP(D5,Tabla1[],2,FALSE) -> 2.5
A7: LOQ (Laboratorio) µg: | D7: 3
A8: Volumen mínimo de muestreo (l): | D8: =D7/(0.1*3) -> 10
A9: Tiempo mínimo de muestreo (min): | D9: =D8/D6 -> 4
A10: Tiempo mínimo de muestreo (h): | D10: =+D9/60 -> 0.066666667
A11: Comentarios | D11: {=_xlfn.IFS(D10<8,"PUEDE MEDIR DENTRO DE LA JORNADA DE 8 H",D10>8,"NO PUEDE MEDIR DENTRO DE LA JORNADA DE 8H")} -> PUEDE MEDIR DENTRO DE LA JORNADA DE 8 H
A13: CUARZO
A14: Muestreador seleccionado: | D14: CASELLA
A15: Caudal: | D15: =VLOOKUP(D14,Tabla1[],2,FALSE) -> 2.2 | E15: LABORATORIO INS
A16: LOQ (Laboratorio) µg: | D16: 3 | E16: {=_xlfn.IFS(D16=3,"FTIR",D16=10,"DXR")} -> FTIR
A17: Volumen mínimo de muestreo (l): | D17: =D16/(0.1*0.05) -> 600
A18: Tiempo mínimo de muestreo: | D18: =D17/D15 -> 272.72727
A19: Tiempo mínimo de muestreo (h): | D19: =+D18/60 -> 4.5454545
A20: Comentarios | D20: {=_xlfn.IFS(D19<8,"PUEDE MEDIR DENTRO DE LA JORNADA DE 8 H",D19>8,"NO PUEDE MEDIR DENTRO DE LA JORNADA DE 8H")} -> PUEDE MEDIR DENTRO DE LA JORNADA DE 8 H
A23: VLA-ED MATERIA PARTICUALADA | D23: 3
A24: VLA-ED SILICE CRISTALINA | D24: 0.05

Sheet MEDICIONES
B1: CONTROL DE POLVO RESPIRABLE, SÍLICE LIBRE - ITC 02.0.02
X3: MATERIA PARTICULADA - POLVO RESPIRABLE | AK3: SCR
J4: FRACCIÓN POLVO RESPIRABLE | P4: FRACCIÓN SÍLICE CRISTALINA LIBRE RESPIRABLE | X4: PRUEBA PRELIMINAR | AA4: PRUEBA ESTADÍSTICA | AK4: PRUEBA PRELIMINAR | AN4: PRUEBA ESTADÍSTICA
A5: PUESTO DE TRABAJO | B5: FECHA | C5: ID MUESTRA | D5: Muestrador | E5: Hora inicio | F5: Hora fin | G5: TIEMPO DE MUESTREO minutos | H5: Caudal (l/min) | I5: VOLUMEN AIRE litros | J5: MASA (μg) | K5: MASA (mg) | L5: CONCENTRACIÓN (mg/m3) | M5: ED (mg/m3)* | N5: I | O5: < LOQ | P5: MASA (μg) | Q5: MASA (mg) | R5: % | S5: CONCENTRACIÓN (mg/m3) | T5: ED (mg/m3) | U5: I | V5: < LOQ | W5: COMENTARIOS | X5: 3 Medicioens < 10% VLA-ED | Y5: 4 Medicioens < 15% VLA-ED | Z5: 5 Medicioens < 20% VLA-ED | AA5: CÓDIGO CALCULADOR INSST | AB5: DISTRIBUCIÓN | AC5: MG / MA | AD5: DSG /DA | AE5: nº de mediciones | AF5: UR | AG5: UT | AH5: RESULTADO | AI5: PERIODICIDAD (meses) | AJ5: Fecha de nueva medicion | AK5: 3 Medicioens < 10% VLA-ED | AL5: 4 Medicioens < 15% VLA-ED | AM5: 5 Medicioens < 20% VLA-ED | AN5: CÓDIGO CALCULADOR INSST | AO5: DISTRIBUCIÓN | AP5: MG / MA | AQ5: DSG /DA | AR5: nº de mediciones | AS5: UR | AT5: UT | AU5: RESULTADO | AV5: PERIODICIDAD (meses) | AW5: Fecha de nueva medicion
A6: Direccion técnica | B6: 45293 | C6: 1 | D6: CASELLA | E6: 0.33333333 | F6: 0.66666667 | G6: =+(F6-E6)*1440 -> 480 | H6: =VLOOKUP(D6,Tabla1[],2,FALSE) -> 2.2 | I6: =+H6*G6 -> 1056 | J6: 300 | K6: =+J6/1000 -> 0.3 | L6: =+K6/(I6/1000) -> 0.28409091 | M6: =+L6*480/G6 -> 0.28409091 | N6: =+(M6/3) -> 0.09469697 | O6: =IF(J6<=PARTIDA!$D$7,"SI","NO") -> NO | P6: 11 | Q6: =+P6/1000 -> 0.011 | R6: =+Q6/K6 -> 0.036666667 | S6: =+Q6/(I6/1000) -> 0.010416667 | T6: =+S6*480/G6 -> 0.010416667 | U6: =+(T6/0.05) -> 0.20833333 | V6: =IF(P6<=PARTIDA!$D$16,"SI","NO") -> NO | X6: =IF(N6<10%, "CONFORMIDAD", "NO CONFORMIDAD") -> CONFORMIDAD | Y6: =IF(N6<15%, "CONFORMIDAD", "NO CONFORMIDAD") -> CONFORMIDAD | Z6: =IF(N6<20%, "CONFORMIDAD", "NO CONFORMIDAD") -> CONFORMIDAD | AA6: 9763931 | AB6: LOG-NORMAL | AC6: 0.3771 | AD6: 1.223 | AE6: =COUNT(N6:N11) -> 6 | AF6: 10.29 | AG6: =VLOOKUP(AE6,Tabla2[],2,FALSE) -> 2.187 | AH6: =IF(AF6>=AG6,"CONFORMIDAD","NO CONFORMIDAD") -> CONFORMIDAD | AI6: 36 | AJ6: =+B11+(AI6*30) -> 46529 | AK6: =IF(U6<10%, "CONFORMIDAD", "NO CONFORMIDAD") -> NO CONFORMIDAD | AL6: =IF(U6<15%, "CONFORMIDAD", "NO CONFORMIDAD") -> NO CONFORMIDAD | AM6: =IF(U6<20%, "CONFORMIDAD", "NO CONFORMIDAD") -> NO CONFORMIDAD | AN6: 472982 | AO6: LOG-NORMAL | AP6: 0.0101 | AQ6: 1.084 | AR6: =COUNT(N6:N11) -> 6 | AS6: 19.83 | AT6: =VLOOKUP(AR6,Tabla2[],2,FALSE) -> 2.187 | AU6: =IF(AS6>=AT6,"CONFORMIDAD","NO CONFORMIDAD") -> CONFORMIDAD | AV6: 36 | AW6: =+B11+(AV6*30) -> 46529 | AX6: 8072660 | BL6: 0.1
B7: 45316 | C7: 2 | D7: CASELLA | E7: 0.33333333 | F7: 0.66666667 | G7: =+(F7-E7)*1440 -> 480 | H7: =VLOOKUP(D7,Tabla1[],2,FALSE) -> 2.2 | I7: =+H7*G7 -> 1056 | J7: 500 | K7: =+J7/1000 -> 0.5 | L7: =+K7/(I7/1000) -> 0.47348485 | M7: =+L7*480/G7 -> 0.47348485 | N7: =+(M7/3) -> 0.15782828 | O7: =IF(J7<=PARTIDA!$D$7,"SI","NO") -> NO | P7: 12 | Q7: =+P7/1000 -> 0.012 | R7: =+Q7/K7 -> 0.024 | S7: =+Q7/(I7/1000) -> 0.011363636 | T7: =+S7*480/G7 -> 0.011363636 | U7: =+(T7/0.05) -> 0.22727273 | V7: =IF(P7<=PARTIDA!$D$16,"SI","NO") -> NO | X7: =IF(N7<10%, "CONFORMIDAD", "NO CONFORMIDAD") -> NO CONFORMIDAD | Y7: =IF(N7<15%, "CONFORMIDAD", "NO CONFORMIDAD") -> NO CONFORMIDAD | Z7: =IF(N7<20%, "CONFORMIDAD", "NO CONFORMIDAD") -> CONFORMIDAD | AK7: =IF(U7<10%, "CONFORMIDAD", "NO CONFORMIDAD") -> NO CONFORMIDAD | AL7: =IF(U7<15%, "CONFORMIDAD", "NO CONFORMIDAD") -> NO CONFORMIDAD | AM7: =IF(U7<20%, "CONFORMIDAD", "NO CONFORMIDAD") -> NO CONFORMIDAD | BL7: 0.1
B8: 45325 | C8: 3 | D8: CASELLA | E8: 0.33333333 | F8: 0.66666667 | G8: =+(F8-E8)*1440 -> 480 | H8: =VLOOKUP(D8,Tabla1[],2,FALSE) -> 2.2 | I8: =+H8*G8 -> 1056 | J8: 350 | K8: =+J8/1000 -> 0.35 | L8: =+K8/(I8/1000) -> 0.33143939 | M8: =+L8*480/G8 -> 0.33143939 | N8: =+(M8/3) -> 0.1104798 | O8: =IF(J8<=PARTIDA!$D$7,"SI","NO") -> NO | P8: 10 | Q8: =+P8/1000 -> 0.01 | R8: =+Q8/K8 -> 0.028571429 | S8: =+Q8/(I8/1000) -> 0.009469697 | T8: =+S8*480/G8 -> 0.009469697 | U8: =+(T8/0.05) -> 0.18939394 | V8: =IF(P8<=PARTIDA!$D$16,"SI","NO") -> NO | X8: =IF(N8<10%, "CONFORMIDAD", "NO CONFORMIDAD") -> NO CONFORMIDAD | Y8: =IF(N8<15%, "CONFORMIDAD", "NO CONFORMIDAD") -> CONFORMIDAD | Z8: =IF(N8<20%, "CONFORMIDAD", "NO CONFORMIDAD") -> CONFORMIDAD | AK8: =IF(U8<10%, "CONFORMIDAD", "NO CONFORMIDAD") -> NO CONFORMIDAD | AL8: =IF(U8<15%, "CONFORMIDAD", "NO CONFORMIDAD") -> NO CONFORMIDAD | AM8: =IF(U8<20%, "CONFORMIDAD", "NO CONFORMIDAD") -> CONFORMIDAD | BL8: 0.1
B9: 45356 | C9: 4 | D9: CASELLA | E9: 0.33333333 | F9: 0.66666667 | G9: =+(F9-E9)*1440 -> 480 | H9: =VLOOKUP(D9,Tabla1[],2,FALSE) -> 2.2 | I9: =+H9*G9 -> 1056 | J9: 400 | K9: =+J9/1000 -> 0.4 | L9: =+K9/(I9/1000) -> 0.37878788 | M9: =+L9*480/G9 -> 0.37878788 | N9: =+(M9/3) -> 0.12626263 | O9: =IF(J9<=PARTIDA!$D$7,"SI","NO") -> NO | P9: 10 | Q9: =+P9/1000 -> 0.01 | R9: =+Q9/K9 -> 0.025 | S9: =+Q9/(I9/1000) -> 0.009469697 | T9: =+S9*480/G9 -> 0.009469697 | U9: =+(T9/0.05) -> 0.18939394 | V9: =IF(P9<=PARTIDA!$D$16,"SI","NO") -> NO | X9: Si alguna de las anteriores es no conformidad y < del 15 %: "NO DECISIÓN" pasaremos a 4 mediciones | Y9: =IF(N9<15%, "CONFORMIDAD", "NO CONFORMIDAD") -> CONFORMIDAD | Z9: =IF(N9<20%, "CONFORMIDAD", "NO CONFORMIDAD") -> CONFORMIDAD | AK9: Si alguna de las anteriores es no conformidad y < del 15 %: "NO DECISIÓN" pasaremos a 4 mediciones | AL9: =IF(U9<15%, "CONFORMIDAD", "NO CONFORMIDAD") -> NO CONFORMIDAD | AM9: =IF(U9<20%, "CONFORMIDAD", "NO CONFORMIDAD") -> CONFORMIDAD | BL9: 0.1
B10: 45418 | C10: 5 | D10: CASELLA | E10: 0.33333333 | F10: 0.66666667 | G10: =+(F10-E10)*1440 -> 480 | H10: =VLOOKUP(D10,Tabla1[],2,FALSE) -> 2.2 | I10: =+H10*G10 -> 1056 | J10: 380 | K10: =+J10/1000 -> 0.38 | L10: =+K10/(I10/1000) -> 0.35984848 | M10: =+L10*480/G10 -> 0.35984848 | N10: =+(M10/3) -> 0.11994949 | O10: =IF(J10<=PARTIDA!$D$7,"SI","NO") -> NO | P10: 11 | Q10: =+P10/1000 -> 0.011 | R10: =+Q10/K10 -> 0.028947368 | S10: =+Q10/(I10/1000) -> 0.010416667 | T10: =+S10*480/G10 -> 0.010416667 | U10: =+(T10/0.05) -> 0.20833333 | V10: =IF(P10<=PARTIDA!$D$16,"SI","NO") -> NO | Y10: Si alguna de las anteriores es no conformidad y < del 20 %: "NO DECISIÓN" pasaremos a 4 mediciones | Z10: =IF(N10<20%, "CONFORMIDAD", "NO CONFORMIDAD") -> CONFORMIDAD | AL10: Si alguna de las anteriores es no conformidad y < del 20 %: "NO DECISIÓN" pasaremos a 4 mediciones | AM10: =IF(U10<20%, "CONFORMIDAD", "NO CONFORMIDAD") -> NO CONFORMIDAD | BL10: 0.1
B11: 45449 | C11: 6 | D11: CASELLA | E11: 0.33333333 | F11: 0.66666667 | G11: =+(F11-E11)*1440 -> 480 | H11: =VLOOKUP(D11,Tabla1[],2,FALSE) -> 2.2 | I11: =+H11*G11 -> 1056 | J11: 500 | K11: =+J11/1000 -> 0.5 | L11: =+K11/(I11/1000) -> 0.47348485 | M11: =+L11*480/G11 -> 0.47348485 | N11: =+(M11/3) -> 0.15782828 | O11: =IF(J11<=PARTIDA!$D$7,"SI","NO") -> NO | P11: 10 | Q11: =+P11/1000 -> 0.01 | R11: =+Q11/K11 -> 0.02 | S11: =+Q11/(I11/1000) -> 0.009469697 | T11: =+S11*480/G11 -> 0.009469697 | U11: =+(T11/0.05) -> 0.18939394 | V11: =IF(P11<=PARTIDA!$D$16,"SI","NO") -> NO | Z11: Si alguna de las pruebas superior al 20 %: "NO DECISIÓN" pasamos a prueba estadística | AM11: Si alguna de las pruebas superior al 20 %: "NO DECISIÓN" pasamos a prueba estadística | BL11: 0.1
BL12: 0.1
A13: Encargado | B13: 45293 | D13: BGI 4,2 | E13: 0.25 | F13: 0.58333333 | G13: =+(F13-E13)*1440 -> 480 | H13: 2.21 | I13: =+H13*G13 -> 1060.8 | J13: 3500 | K13: =+J13/1000 -> 3.5 | L13: =+K13/(I13/1000) -> 3.2993967 | M13: =+L13*480/G13 -> 3.2993967 | N13: =+(M13/3) -> 1.0997989 | O13: =IF(J13<=PARTIDA!$D$7,"SI","NO") -> NO | Q13: =+P13/1000 -> 0 | R13: =+Q13/K13 -> 0 | S13: =+Q13/(I13/1000) -> 0 | T13: =+S13*480/G13 -> 0 | U13: =+(T13/0.05) -> 0 | V13: =IF(P13<=PARTIDA!$D$16,"SI","NO") -> SI | X13: =IF(N13<10%, "CONFORMIDAD", "NO CONFORMIDAD") -> NO CONFORMIDAD | Y13: =IF(N13<15%, "CONFORMIDAD", "NO CONFORMIDAD") -> NO CONFORMIDAD | Z13: =IF(N13<20%, "CONFORMIDAD", "NO CONFORMIDAD") -> NO CONFORMIDAD | AE13: =COUNT(N13:N18) -> 1 | AG13: =VLOOKUP(AE13,Tabla2[],2,FALSE) -> #N/A | AH13: =IF(AF13>=AG13,"CONFORMIDAD","NO CONFORMIDAD") -> #N/A | AJ13: =+B18+(AI13*30) -> 45449 | AK13: =IF(U13<10%, "CONFORMIDAD", "NO CONFORMIDAD") -> CONFORMIDAD | AL13: =IF(U13<15%, "CONFORMIDAD", "NO CONFORMIDAD") -> CONFORMIDAD | AM13: =IF(U13<20%, "CONFORMIDAD", "NO CONFORMIDAD") -> CONFORMIDAD | AR13: =COUNT(N13:N18) -> 1 | AT13: =VLOOKUP(AR13,Tabla2[],2,FALSE) -> #N/A | AU13: =IF(AS13>=AT13,"CONFORMIDAD","NO CONFORMIDAD") -> #N/A | AW13: =+B18+(AV13*30) -> 45449 | BL13: 0.1
B14: 45316 | G14: =+(F14-E14)*1440 -> 0 | H14: =VLOOKUP(D14,Tabla1[],2,FALSE) -> #N/A | I14: =+H14*G14 -> #N/A | K14: =+J14/1000 -> 0 | L14: =+K14/(I14/1000) -> #N/A | M14: =+L14*480/G14 -> #N/A | N14: =+(M14/3) -> #N/A | O14: =IF(J14<=PARTIDA!$D$7,"SI","NO") -> SI | Q14: =+P14/1000 -> 0 | R14: =+Q14/K14 -> #DIV/0! | S14: =+Q14/(I14/1000) -> #N/A | T14: =+S14*480/G14 -> #N/A | U14: =+(T14/0.05) -> #N/A | V14: =IF(P14<=PARTIDA!$D$16,"SI","NO") -> SI | X14: =IF(N14<10%, "CONFORMIDAD", "NO CONFORMIDAD") -> #N/A | Y14: =IF(N14<15%, "CONFORMIDAD", "NO CONFORMIDAD") -> #N/A | Z14: =IF(N14<20%, "CONFORMIDAD", "NO CONFORMIDAD") -> #N/A | AK14: =IF(U14<10%, "CONFORMIDAD", "NO CONFORMIDAD") -> #N/A | AL14: =IF(U14<15%, "CONFORMIDAD", "NO CONFORMIDAD") -> #N/A | AM14: =IF(U14<20%, "CONFORMIDAD", "NO CONFORMIDAD") -> #N/A | AZ14: IMPORTANTE | BL14: 0.1
B15: 45325 | G15: =+(F15-E15)*1440 -> 0 | H15: =VLOOKUP(D15,Tabla1[],2,FALSE) -> #N/A | I15: =+H15*G15 -> #N/A | K15: =+J15/1000 -> 0 | L15: =+K15/(I15/1000) -> #N/A | M15: =+L15*480/G15 -> #N/A | N15: =+(M15/3) -> #N/A | O15: =IF(J15<=PARTIDA!$D$7,"SI","NO") -> SI | Q15: =+P15/1000 -> 0 | R15: =+Q15/K15 -> #DIV/0! | S15: =+Q15/(I15/1000) -> #N/A | T15: =+S15*480/G15 -> #N/A | U15: =+(T15/0.05) -> #N/A | V15: =IF(P15<=PARTIDA!$D$16,"SI","NO") -> SI | X15: =IF(N15<10%, "CONFORMIDAD", "NO CONFORMIDAD") -> #N/A | Y15: =IF(N15<15%, "CONFORMIDAD", "NO CONFORMIDAD") -> #N/A | Z15: =IF(N15<20%, "CONFORMIDAD", "NO CONFORMIDAD") -> #N/A | AK15: =IF(U15<10%, "CONFORMIDAD", "NO CONFORMIDAD") -> #N/A | AL15: =IF(U15<15%, "CONFORMIDAD", "NO CONFORMIDAD") -> #N/A | AM15: =IF(U15<20%, "CONFORMIDAD", "NO CONFORMIDAD") -> #N/A | AZ15: No está incluida la Cristobalita - Simplemente es añadir un apartado igual que el de la SCR | BL15: 0.1
B16: 45356 | G16: =+(F16-E16)*1440 -> 0 | H16: =VLOOKUP(D16,Tabla1[],2,FALSE) -> #N/A | I16: =+H16*G16 -> #N/A | K16: =+J16/1000 -> 0 | L16: =+K16/(I16/1000) -> #N/A | M16: =+L16*480/G16 -> #N/A | N16: =+(M16/3) -> #N/A | O16: =IF(J16<=PARTIDA!$D$7,"SI","NO") -> SI | Q16: =+P16/1000 -> 0 | R16: =+Q16/K16 -> #DIV/0! | S16: =+Q16/(I16/1000) -> #N/A | T16: =+S16*480/G16 -> #N/A | U16: =+(T16/0.05) -> #N/A | V16: =IF(P16<=PARTIDA!$D$16,"SI","NO") -> SI | X16: Si alguna de las anteriores es no conformidad y < del 15 %: "NO DECISIÓN" pasaremos a 4 mediciones | Y16: =IF(N16<15%, "CONFORMIDAD", "NO CONFORMIDAD") -> #N/A | Z16: =IF(N16<20%, "CONFORMIDAD", "NO CONFORMIDAD") -> #N/A | AK16: Si alguna de las anteriores es no conformidad y < del 15 %: "NO DECISIÓN" pasaremos a 4 mediciones | AL16: =IF(U16<15%, "CONFORMIDAD", "NO CONFORMIDAD") -> #N/A | AM16: =IF(U16<20%, "CONFORMIDAD", "NO CONFORMIDAD") -> #N/A | AZ16: No está incluida la tridimita - Simplemente es añadir un apartado igual que el de la SCR | BL16: 0.1
B17: 45418 | G17: =+(F17-E17)*1440 -> 0 | H17: =VLOOKUP(D17,Tabla1[],2,FALSE) -> #N/A | I17: =+H17*G17 -> #N/A | K17: =+J17/1000 -> 0 | L17: =+K17/(I17/1000) -> #N/A | M17: =+L17*480/G17 -> #N/A | N17: =+(M17/3) -> #N/A | O17: =IF(J17<=PARTIDA!$D$7,"SI","NO") -> SI | Q17: =+P17/1000 -> 0 | R17: =+Q17/K17 -> #DIV/0! | S17: =+Q17/(I17/1000) -> #N/A | T17: =+S17*480/G17 -> #N/A | U17: =+(T17/0.05) -> #N/A | V17: =IF(P17<=PARTIDA!$D$16,"SI","NO") -> SI | Y17: Si alguna de las anteriores es no conformidad y < del 20 %: "NO DECISIÓN" pasaremos a 4 mediciones | Z17: =IF(N17<20%, "CONFORMIDAD", "NO CONFORMIDAD") -> #N/A | AL17: Si alguna de las anteriores es no conformidad y < del 20 %: "NO DECISIÓN" pasaremos a 4 mediciones | AM17: =IF(U17<20%, "CONFORMIDAD", "NO CONFORMIDAD") -> #N/A | AZ17: En caso de tener presencia de Cristobalita y tridimita el ensayo debe de ser por DXR y considerar el efecto aditivo | BL17: 0.1
B18: 45449 | G18: =+(F18-E18)*1440 -> 0 | H18: =VLOOKUP(D18,Tabla1[],2,FALSE) -> #N/A | I18: =+H18*G18 -> #N/A | K18: =+J18/1000 -> 0 | L18: =+K18/(I18/1000) -> #N/A | M18: =+L18*480/G18 -> #N/A | N18: =+(M18/3) -> #N/A | O18: =IF(J18<=PARTIDA!$D$7,"SI","NO") -> SI | Q18: =+P18/1000 -> 0 | R18: =+Q18/K18 -> #DIV/0! | S18: =+Q18/(I18/1000) -> #N/A | T18: =+S18*480/G18 -> #N/A | U18: =+(T18/0.05) -> #N/A | V18: =IF(P18<=PARTIDA!$D$16,"SI","NO") -> SI | Z18: Si alguna de las pruebas superior al 20 %: "NO DECISIÓN" pasamos a prueba estadística | AM18: Si alguna de las pruebas superior al 20 %: "NO DECISIÓN" pasamos a prueba estadística | BL18: 0.1
BL19: 0.1
A20: Operario de molienda | B20: 45293 | G20: =+(F20-E20)*1440 -> 0 | H20: =VLOOKUP(D20,Tabla1[],2,FALSE) -> #N/A | I20: =+H20*G20 -> #N/A | K20: =+J20/1000 -> 0 | L20: =+K20/(I20/1000) -> #N/A | M20: =+L20*480/G20 -> #N/A | N20: =+(M20/3) -> #N/A | O20: =IF(J20<=PARTIDA!$D$7,"SI","NO") -> SI | Q20: =+P20/1000 -> 0 | R20: =+Q20/K20 -> #DIV/0! | S20: =+Q20/(I20/1000) -> #N/A | T20: =+S20*480/G20 -> #N/A | U20: =+(T20/0.05) -> #N/A | V20: =IF(P20<=PARTIDA!$D$16,"SI","NO") -> SI | X20: =IF(N20<10%, "CONFORMIDAD", "NO CONFORMIDAD") -> #N/A | Y20: =IF(N20<15%, "CONFORMIDAD", "NO CONFORMIDAD") -> #N/A | Z20: =IF(N20<20%, "CONFORMIDAD", "NO CONFORMIDAD") -> #N/A | AE20: =COUNT(N20:N25) -> 0 | AG20: =VLOOKUP(AE20,Tabla2[],2,FALSE) -> #N/A | AH20: =IF(AF20>=AG20,"CONFORMIDAD","NO CONFORMIDAD") -> #N/A | AJ20: =+B25+(AI20*30) -> 45449 | AK20: =IF(U20<10%, "CONFORMIDAD", "NO CONFORMIDAD") -> #N/A | AL20: =IF(U20<15%, "CONFORMIDAD", "NO CONFORMIDAD") -> #N/A | AM20: =IF(U20<20%, "CONFORMIDAD", "NO CONFORMIDAD") -> #N/A | AR20: =COUNT(N20:N25) -> 0 | AT20: =VLOOKUP(AR20,Tabla2[],2,FALSE) -> #N/A | AU20: =IF(AS20>=AT20,"CONFORMIDAD","NO CONFORMIDAD") -> #N/A | AW20: =+B25+(AV20*30) -> 45449 | BL20: 0.1
B21: 45316 | G21: =+(F21-E21)*1440 -> 0 | H21: =VLOOKUP(D21,Tabla1[],2,FALSE) -> #N/A | I21: =+H21*G21 -> #N/A | K21: =+J21/1000 -> 0 | L21: =+K21/(I21/1000) -> #N/A | M21: =+L21*480/G21 -> #N/A | N21: =+(M21/3) -> #N/A | O21: =IF(J21<=PARTIDA!$D$7,"SI","NO") -> SI | Q21: =+P21/1000 -> 0 | R21: =+Q21/K21 -> #DIV/0! | S21: =+Q21/(I21/1000) -> #N/A | T21: =+S21*480/G21 -> #N/A | U21: =+(T21/0.05) -> #N/A | V21: =IF(P21<=PARTIDA!$D$16,"SI","NO") -> SI | X21: =IF(N21<10%, "CONFORMIDAD", "NO CONFORMIDAD") -> #N/A | Y21: =IF(N21<15%, "CONFORMIDAD", "NO CONFORMIDAD") -> #N/A | Z21: =IF(N21<20%, "CONFORMIDAD", "NO CONFORMIDAD") -> #N/A | AK21: =IF(U21<10%, "CONFORMIDAD", "NO CONFORMIDAD") -> #N/A | AL21: =IF(U21<15%, "CONFORMIDAD", "NO CONFORMIDAD") -> #N/A | AM21: =IF(U21<20%, "CONFORMIDAD", "NO CONFORMIDAD") -> #N/A | BL21: 0.1
B22: 45325 | G22: =+(F22-E22)*1440 -> 0 | H22: =VLOOKUP(D22,Tabla1[],2,FALSE) -> #N/A | I22: =+H22*G22 -> #N/A | K22: =+J22/1000 -> 0 | L22: =+K22/(I22/1000) -> #N/A | M22: =+L22*480/G22 -> #N/A | N22: =+(M22/3) -> #N/A | O22: =IF(J22<=PARTIDA!$D$7,"SI","NO") -> SI | Q22: =+P22/1000 -> 0 | R22: =+Q22/K22 -> #DIV/0! | S22: =+Q22/(I22/1000) -> #N/A | T22: =+S22*480/G22 -> #N/A | U22: =+(T22/0.05) -> #N/A | V22: =IF(P22<=PARTIDA!$D$16,"SI","NO") -> SI | X22: =IF(N22<10%, "CONFORMIDAD", "NO CONFORMIDAD") -> #N/A | Y22: =IF(N22<15%, "CONFORMIDAD", "NO CONFORMIDAD") -> #N/A | Z22: =IF(N22<20%, "CONFORMIDAD", "NO CONFORMIDAD") -> #N/A | AK22: =IF(U22<10%, "CONFORMIDAD", "NO CONFORMIDAD") -> #N/A | AL22: =IF(U22<15%, "CONFORMIDAD", "NO CONFORMIDAD") -> #N/A | AM22: =IF(U22<20%, "CONFORMIDAD", "NO CONFORMIDAD") -> #N/A | BL22: 0.1
B23: 45356 | G23: =+(F23-E23)*1440 -> 0 | H23: =VLOOKUP(D23,Tabla1[],2,FALSE) -> #N/A | I23: =+H23*G23 -> #N/A | K23: =+J23/1000 -> 0 | L23: =+K23/(I23/1000) -> #N/A | M23: =+L23*480/G23 -> #N/A | N23: =+(M23/3) -> #N/A | O23: =IF(J23<=PARTIDA!$D$7,"SI","NO") -> SI | Q23: =+P23/1000 -> 0 | R23: =+Q23/K23 -> #DIV/0! | S23: =+Q23/(I23/1000) -> #N/A | T23: =+S23*480/G23 -> #N/A | U23: =+(T23/0.05) -> #N/A | V23: =IF(P23<=PARTIDA!$D$16,"SI","NO") -> SI | X23: Si alguna de las anteriores es no conformidad y < del 15 %: "NO DECISIÓN" pasaremos a 4 mediciones | Y23: =IF(N23<15%, "CONFORMIDAD", "NO CONFORMIDAD") -> #N/A | Z23: =IF(N23<20%, "CONFORMIDAD", "NO CONFORMIDAD") -> #N/A | AK23: Si alguna de las anteriores es no conformidad y < del 15 %: "NO DECISIÓN" pasaremos a 4 mediciones | AL23: =IF(U23<15%, "CONFORMIDAD", "NO CONFORMIDAD") -> #N/A | AM23: =IF(U23<20%, "CONFORMIDAD", "NO CONFORMIDAD") -> #N/A | BL23: 0.1
B24: 45418 | G24: =+(F24-E24)*1440 -> 0 | H24: =VLOOKUP(D24,Tabla1[],2,FALSE) -> #N/A | I24: =+H24*G24 -> #N/A | K24: =+J24/1000 -> 0 | L24: =+K24/(I24/1000) -> #N/A | M24: =+L24*480/G24 -> #N/A | N24: =+(M24/3) -> #N/A | O24: =IF(J24<=PARTIDA!$D$7,"SI","NO") -> SI | Q24: =+P24/1000 -> 0 | R24: =+Q24/K24 -> #DIV/0! | S24: =+Q24/(I24/1000) -> #N/A | T24: =+S24*480/G24 -> #N/A | U24: =+(T24/0.05) -> #N/A | V24: =IF(P24<=PARTIDA!$D$16,"SI","NO") -> SI | Y24: Si alguna de las anteriores es no conformidad y < del 20 %: "NO DECISIÓN" pasaremos a 4 mediciones | Z24: =IF(N24<20%, "CONFORMIDAD", "NO CONFORMIDAD") -> #N/A | AL24: Si alguna de las anteriores es no conformidad y < del 20 %: "NO DECISIÓN" pasaremos a 4 mediciones | AM24: =IF(U24<20%, "CONFORMIDAD", "NO CONFORMIDAD") -> #N/A | BL24: 0.1
B25: 45449 | G25: =+(F25-E25)*1440 -> 0 | H25: =VLOOKUP(D25,Tabla1[],2,FALSE) -> #N/A | I25: =+H25*G25 -> #N/A | K25: =+J25/1000 -> 0 | L25: =+K25/(I25/1000) -> #N/A | M25: =+L25*480/G25 -> #N/A | N25: =+(M25/3) -> #N/A | O25: =IF(J25<=PARTIDA!$D$7,"SI","NO") -> SI | Q25: =+P25/1000 -> 0 | R25: =+Q25/K25 -> #DIV/0! | S25: =+Q25/(I25/1000) -> #N/A | T25: =+S25*480/G25 -> #N/A | U25: =+(T25/0.05) -> #N/A | V25: =IF(P25<=PARTIDA!$D$16,"SI","NO") -> SI | Z25: Si alguna de las pruebas superior al 20 %: "NO DECISIÓN" pasamos a prueba estadística | AM25: Si alguna de las pruebas superior al 20 %: "NO DECISIÓN" pasamos a prueba estadística | BL25: 0.1
BL26: 0.1
A27: Operario de clasificación | B27: 45292 | G27: =+(F27-E27)*1440 -> 0 | H27: =VLOOKUP(D27,Tabla1[],2,FALSE) -> #N/A | I27: =+H27*G27 -> #N/A | K27: =+J27/1000 -> 0 | L27: =+K27/(I27/1000) -> #N/A | M27: =+L27*480/G27 -> #N/A | N27: =+(M27/3) -> #N/A | O27: =IF(J27<=PARTIDA!$D$7,"SI","NO") -> SI | Q27: =+P27/1000 -> 0 | R27: =+Q27/K27 -> #DIV/0! | S27: =+Q27/(I27/1000) -> #N/A | T27: =+S27*480/G27 -> #N/A | U27: =+(T27/0.05) -> #N/A | V27: =IF(P27<=PARTIDA!$D$16,"SI","NO") -> SI | X27: =IF(N27<10%, "CONFORMIDAD", "NO CONFORMIDAD") -> #N/A | Y27: =IF(N27<15%, "CONFORMIDAD", "NO CONFORMIDAD") -> #N/A | Z27: =IF(N27<20%, "CONFORMIDAD", "NO CONFORMIDAD") -> #N/A | AE27: =COUNT(N27:N32) -> 0 | AG27: =VLOOKUP(AE27,Tabla2[],2,FALSE) -> #N/A | AH27: =IF(AF27>=AG27,"CONFORMIDAD","NO CONFORMIDAD") -> #N/A | AJ27: =+B32+(AI27*30) -> 45536 | AK27: =IF(U27<10%, "CONFORMIDAD", "NO CONFORMIDAD") -> #N/A | AL27: =IF(U27<15%, "CONFORMIDAD", "NO CONFORMIDAD") -> #N/A | AM27: =IF(U27<20%, "CONFORMIDAD", "NO CONFORMIDAD") -> #N/A | AR27: =COUNT(N27:N32) -> 0 | AT27: =VLOOKUP(AR27,Tabla2[],2,FALSE) -> #N/A | AU27: =IF(AS27>=AT27,"CONFORMIDAD","NO CONFORMIDAD") -> #N/A | AW27: =+B32+(AV27*30) -> 45536 | BL27: 0.1
G28: =+(F28-E28)*1440 -> 0 | H28: =VLOOKUP(D28,Tabla1[],2,FALSE) -> #N/A | I28: =+H28*G28 -> #N/A | K28: =+J28/1000 -> 0 | L28: =+K28/(I28/1000) -> #N/A | M28: =+L28*480/G28 -> #N/A | N28: =+(M28/3) -> #N/A | O28: =IF(J28<=PARTIDA!$D$7,"SI","NO") -> SI | Q28: =+P28/1000 -> 0 | R28: =+Q28/K28 -> #DIV/0! | S28: =+Q28/(I28/1000) -> #N/A | T28: =+S28*480/G28 -> #N/A | U28: =+(T28/0.05) -> #N/A | V28: =IF(P28<=PARTIDA!$D$16,"SI","NO") -> SI | X28: =IF(N28<10%, "CONFORMIDAD", "NO CONFORMIDAD") -> #N/A | Y28: =IF(N28<15%, "CONFORMIDAD", "NO CONFORMIDAD") -> #N/A | Z28: =IF(N28<20%, "CONFORMIDAD", "NO CONFORMIDAD") -> #N/A | AK28: =IF(U28<10%, "CONFORMIDAD", "NO CONFORMIDAD") -> #N/A | AL28: =IF(U28<15%, "CONFORMIDAD", "NO CONFORMIDAD") -> #N/A | AM28: =IF(U28<20%, "CONFORMIDAD", "NO CONFORMIDAD") -> #N/A | BL28: 0.1
G29: =+(F29-E29)*1440 -> 0 | H29: =VLOOKUP(D29,Tabla1[],2,FALSE) -> #N/A | I29: =+H29*G29 -> #N/A | K29: =+J29/1000 -> 0 | L29: =+K29/(I29/1000) -> #N/A | M29: =+L29*480/G29 -> #N/A | N29: =+(M29/3) -> #N/A | O29: =IF(J29<=PARTIDA!$D$7,"SI","NO") -> SI | Q29: =+P29/1000 -> 0 | R29: =+Q29/K29 -> #DIV/0! | S29: =+Q29/(I29/1000) -> #N/A | T29: =+S29*480/G29 -> #N/A | U29: =+(T29/0.05) -> #N/A | V29: =IF(P29<=PARTIDA!$D$16,"SI","NO") -> SI | X29: =IF(N29<10%, "CONFORMIDAD", "NO CONFORMIDAD") -> #N/A | Y29: =IF(N29<15%, "CONFORMIDAD", "NO CONFORMIDAD") -> #N/A | Z29: =IF(N29<20%, "CONFORMIDAD", "NO CONFORMIDAD") -> #N/A | AK29: =IF(U29<10%, "CONFORMIDAD", "NO CONFORMIDAD") -> #N/A | AL29: =IF(U29<15%, "CONFORMIDAD", "NO CONFORMIDAD") -> #N/A | AM29: =IF(U29<20%, "CONFORMIDAD", "NO CONFORMIDAD") -> #N/A | BL29: 0.1
G30: =+(F30-E30)*1440 -> 0 | H30: =VLOOKUP(D30,Tabla1[],2,FALSE) -> #N/A | I30: =+H30*G30 -> #N/A | K30: =+J30/1000 -> 0 | L30: =+K30/(I30/1000) -> #N/A | M30: =+L30*480/G30 -> #N/A | N30: =+(M30/3) -> #N/A | O30: =IF(J30<=PARTIDA!$D$7,"SI","NO") -> SI | Q30: =+P30/1000 -> 0 | R30: =+Q30/K30 -> #DIV/0! | S30: =+Q30/(I30/1000) -> #N/A | T30: =+S30*480/G30 -> #N/A | U30: =+(T30/0.05) -> #N/A | V30: =IF(P30<=PARTIDA!$D$16,"SI","NO") -> SI | X30: Si alguna de las anteriores es no conformidad y < del 15 %: "NO DECISIÓN" pasaremos a 4 mediciones | Y30: =IF(N30<15%, "CONFORMIDAD", "NO CONFORMIDAD") -> #N/A | Z30: =IF(N30<20%, "CONFORMIDAD", "NO CONFORMIDAD") -> #N/A | AK30: Si alguna de las anteriores es no conformidad y < del 15 %: "NO DECISIÓN" pasaremos a 4 mediciones | AL30: =IF(U30<15%, "CONFORMIDAD", "NO CONFORMIDAD") -> #N/A | AM30: =IF(U30<20%, "CONFORMIDAD", "NO CONFORMIDAD") -> #N/A | BL30: 0.1
B31: =+B27+121 -> 45413 | G31: =+(F31-E31)*1440 -> 0 | H31: =VLOOKUP(D31,Tabla1[],2,FALSE) -> #N/A | I31: =+H31*G31 -> #N/A | K31: =+J31/1000 -> 0 | L31: =+K31/(I31/1000) -> #N/A | M31: =+L31*480/G31 -> #N/A | N31: =+(M31/3) -> #N/A | O31: =IF(J31<=PARTIDA!$D$7,"SI","NO") -> SI | Q31: =+P31/1000 -> 0 | R31: =+Q31/K31 -> #DIV/0! | S31: =+Q31/(I31/1000) -> #N/A | T31: =+S31*480/G31 -> #N/A | U31: =+(T31/0.05) -> #N/A | V31: =IF(P31<=PARTIDA!$D$16,"SI","NO") -> SI | Y31: Si alguna de las anteriores es no conformidad y < del 20 %: "NO DECISIÓN" pasaremos a 4 mediciones | Z31: =IF(N31<20%, "CONFORMIDAD", "NO CONFORMIDAD") -> #N/A | AL31: Si alguna de las anteriores es no conformidad y < del 20 %: "NO DECISIÓN" pasaremos a 4 mediciones | AM31: =IF(U31<20%, "CONFORMIDAD", "NO CONFORMIDAD") -> #N/A | BL31: 0.1
B32: =+B31+123 -> 45536 | G32: =+(F32-E32)*1440 -> 0 | H32: =VLOOKUP(D32,Tabla1[],2,FALSE) -> #N/A | I32: =+H32*G32 -> #N/A | K32: =+J32/1000 -> 0 | L32: =+K32/(I32/1000) -> #N/A | M32: =+L32*480/G32 -> #N/A | N32: =+(M32/3) -> #N/A | O32: =IF(J32<=PARTIDA!$D$7,"SI","NO") -> SI | Q32: =+P32/1000 -> 0 | R32: =+Q32/K32 -> #DIV/0! | S32: =+Q32/(I32/1000) -> #N/A | T32: =+S32*480/G32 -> #N/A | U32: =+(T32/0.05) -> #N/A | V32: =IF(P32<=PARTIDA!$D$16,"SI","NO") -> SI | Z32: Si alguna de las pruebas superior al 20 %: "NO DECISIÓN" pasamos a prueba estadística | AM32: Si alguna de las pruebas superior al 20 %: "NO DECISIÓN" pasamos a prueba estadística | BL32: 0.1
BL33: 0.1
A34: Ayudante operario de clasificación | B34: 45292 | G34: =+(F34-E34)*1440 -> 0 | H34: =VLOOKUP(D34,Tabla1[],2,FALSE) -> #N/A | I34: =+H34*G34 -> #N/A | K34: =+J34/1000 -> 0 | L34: =+K34/(I34/1000) -> #N/A | M34: =+L34*480/G34 -> #N/A | N34: =+(M34/3) -> #N/A | O34: =IF(J34<=PARTIDA!$D$7,"SI","NO") -> SI | Q34: =+P34/1000 -> 0 | R34: =+Q34/K34 -> #DIV/0! | S34: =+Q34/(I34/1000) -> #N/A | T34: =+S34*480/G34 -> #N/A | U34: =+(T34/0.05) -> #N/A | V34: =IF(P34<=PARTIDA!$D$16,"SI","NO") -> SI | X34: =IF(N34<10%, "CONFORMIDAD", "NO CONFORMIDAD") -> #N/A | Y34: =IF(N34<15%, "CONFORMIDAD", "NO CONFORMIDAD") -> #N/A | Z34: =IF(N34<20%, "CONFORMIDAD", "NO CONFORMIDAD") -> #N/A | AE34: =COUNT(N34:N39) -> 0 | AG34: =VLOOKUP(AE34,Tabla2[],2,FALSE) -> #N/A | AH34: =IF(AF34>=AG34,"CONFORMIDAD","NO CONFORMIDAD") -> #N/A | AJ34: =+B39+(AI34*30) -> 45536 | AK34: =IF(U34<10%, "CONFORMIDAD", "NO CONFORMIDAD") -> #N/A | AL34: =IF(U34<15%, "CONFORMIDAD", "NO CONFORMIDAD") -> #N/A | AM34: =IF(U34<20%, "CONFORMIDAD", "NO CONFORMIDAD") -> #N/A | AR34: =COUNT(N34:N39) -> 0 | AT34: =VLOOKUP(AR34,Tabla2[],2,FALSE) -> #N/A | AU34: =IF(AS34>=AT34,"CONFORMIDAD","NO CONFORMIDAD") -> #N/A | AW34: =+B39+(AV34*30) -> 45536 | BL34: 0.1
G35: =+(F35-E35)*1440 -> 0 | H35: =VLOOKUP(D35,Tabla1[],2,FALSE) -> #N/A | I35: =+H35*G35 -> #N/A | K35: =+J35/1000 -> 0 | L35: =+K35/(I35/1000) -> #N/A | M35: =+L35*480/G35 -> #N/A | N35: =+(M35/3) -> #N/A | O35: =IF(J35<=PARTIDA!$D$7,"SI","NO") -> SI | Q35: =+P35/1000 -> 0 | R35: =+Q35/K35 -> #DIV/0! | S35: =+Q35/(I35/1000) -> #N/A | T35: =+S35*480/G35 -> #N/A | U35: =+(T35/0.05) -> #N/A | V35: =IF(P35<=PARTIDA!$D$16,"SI","NO") -> SI | X35: =IF(N35<10%, "CONFORMIDAD", "NO CONFORMIDAD") -> #N/A | Y35: =IF(N35<15%, "CONFORMIDAD", "NO CONFORMIDAD") -> #N/A | Z35: =IF(N35<20%, "CONFORMIDAD", "NO CONFORMIDAD") -> #N/A | AK35: =IF(U35<10%, "CONFORMIDAD", "NO CONFORMIDAD") -> #N/A | AL35: =IF(U35<15%, "CONFORMIDAD", "NO CONFORMIDAD") -> #N/A | AM35: =IF(U35<20%, "CONFORMIDAD", "NO CONFORMIDAD") -> #N/A | BL35: 0.1
G36: =+(F36-E36)*1440 -> 0 | H36: =VLOOKUP(D36,Tabla1[],2,FALSE) -> #N/A | I36: =+H36*G36 -> #N/A | K36: =+J36/1000 -> 0 | L36: =+K36/(I36/1000) -> #N/A | M36: =+L36*480/G36 -> #N/A | N36: =+(M36/3) -> #N/A | O36: =IF(J36<=PARTIDA!$D$7,"SI","NO") -> SI | Q36: =+P36/1000 -> 0 | R36: =+Q36/K36 -> #DIV/0! | S36: =+Q36/(I36/1000) -> #N/A | T36: =+S36*480/G36 -> #N/A | U36: =+(T36/0.05) -> #N/A | V36: =IF(P36<=PARTIDA!$D$16,"SI","NO") -> SI | X36: =IF(N36<10%, "CONFORMIDAD", "NO CONFORMIDAD") -> #N/A | Y36: =IF(N36<15%, "CONFORMIDAD", "NO CONFORMIDAD") -> #N/A | Z36: =IF(N36<20%, "CONFORMIDAD", "NO CONFORMIDAD") -> #N/A | AK36: =IF(U36<10%, "CONFORMIDAD", "NO CONFORMIDAD") -> #N/A | AL36: =IF(U36<15%, "CONFORMIDAD", "NO CONFORMIDAD") -> #N/A | AM36: =IF(U36<20%, "CONFORMIDAD", "NO CONFORMIDAD") -> #N/A | BL36: 0.1
G37: =+(F37-E37)*1440 -> 0 | H37: =VLOOKUP(D37,Tabla1[],2,FALSE) -> #N/A | I37: =+H37*G37 -> #N/A | K37: =+J37/1000 -> 0 | L37: =+K37/(I37/1000) -> #N/A | M37: =+L37*480/G37 -> #N/A | N37: =+(M37/3) -> #N/A | O37: =IF(J37<=PARTIDA!$D$7,"SI","NO") -> SI | Q37: =+P37/1000 -> 0 | R37: =+Q37/K37 -> #DIV/0! | S37: =+Q37/(I37/1000) -> #N/A | T37: =+S37*480/G37 -> #N/A | U37: =+(T37/0.05) -> #N/A | V37: =IF(P37<=PARTIDA!$D$16,"SI","NO") -> SI | X37: Si alguna de las anteriores es no conformidad y < del 15 %: "NO DECISIÓN" pasaremos a 4 mediciones | Y37: =IF(N37<15%, "CONFORMIDAD", "NO CONFORMIDAD") -> #N/A | Z37: =IF(N37<20%, "CONFORMIDAD", "NO CONFORMIDAD") -> #N/A | AK37: Si alguna de las anteriores es no conformidad y < del 15 %: "NO DECISIÓN" pasaremos a 4 mediciones | AL37: =IF(U37<15%, "CONFORMIDAD", "NO CONFORMIDAD") -> #N/A | AM37: =IF(U37<20%, "CONFORMIDAD", "NO CONFORMIDAD") -> #N/A | BL37: 0.1
B38: =+B34+121 -> 45413 | G38: =+(F38-E38)*1440 -> 0 | H38: =VLOOKUP(D38,Tabla1[],2,FALSE) -> #N/A | I38: =+H38*G38 -> #N/A | K38: =+J38/1000 -> 0 | L38: =+K38/(I38/1000) -> #N/A | M38: =+L38*480/G38 -> #N/A | N38: =+(M38/3) -> #N/A | O38: =IF(J38<=PARTIDA!$D$7,"SI","NO") -> SI | Q38: =+P38/1000 -> 0 | R38: =+Q38/K38 -> #DIV/0! | S38: =+Q38/(I38/1000) -> #N/A | T38: =+S38*480/G38 -> #N/A | U38: =+(T38/0.05) -> #N/A | V38: =IF(P38<=PARTIDA!$D$16,"SI","NO") -> SI | Y38: Si alguna de las anteriores es no conformidad y < del 20 %: "NO DECISIÓN" pasaremos a 4 mediciones | Z38: =IF(N38<20%, "CONFORMIDAD", "NO CONFORMIDAD") -> #N/A | AL38: Si alguna de las anteriores es no conformidad y < del 20 %: "NO DECISIÓN" pasaremos a 4 mediciones | AM38: =IF(U38<20%, "CONFORMIDAD", "NO CONFORMIDAD") -> #N/A | BL38: 0.1
B39: =+B38+123 -> 45536 | G39: =+(F39-E39)*1440 -> 0 | H39: =VLOOKUP(D39,Tabla1[],2,FALSE) -> #N/A | I39: =+H39*G39 -> #N/A | K39: =+J39/1000 -> 0 | L39: =+K39/(I39/1000) -> #N/A | M39: =+L39*480/G39 -> #N/A | N39: =+(M39/3) -> #N/A | O39: =IF(J39<=PARTIDA!$D$7,"SI","NO") -> SI | Q39: =+P39/1000 -> 0 | R39: =+Q39/K39 -> #DIV/0! | S39: =+Q39/(I39/1000) -> #N/A | T39: =+S39*480/G39 -> #N/A | U39: =+(T39/0.05) -> #N/A | V39: =IF(P39<=PARTIDA!$D$16,"SI","NO") -> SI | Z39: Si alguna de las pruebas superior al 20 %: "NO DECISIÓN" pasamos a prueba estadística | AM39: Si alguna de las pruebas superior al 20 %: "NO DECISIÓN" pasamos a prueba estadística | BL39: 0.1
BL40: 0.1
A41: Operario zona ensacado | B41: 45292 | G41: =+(F41-E41)*1440 -> 0 | H41: =VLOOKUP(D41,Tabla1[],2,FALSE) -> #N/A | I41: =+H41*G41 -> #N/A | K41: =+J41/1000 -> 0 | L41: =+K41/(I41/1000) -> #N/A | M41: =+L41*480/G41 -> #N/A | N41: =+(M41/3) -> #N/A | O41: =IF(J41<=PARTIDA!$D$7,"SI","NO") -> SI | Q41: =+P41/1000 -> 0 | R41: =+Q41/K41 -> #DIV/0! | S41: =+Q41/(I41/1000) -> #N/A | T41: =+S41*480/G41 -> #N/A | U41: =+(T41/0.05) -> #N/A | V41: =IF(P41<=PARTIDA!$D$16,"SI","NO") -> SI | X41: =IF(N41<10%, "CONFORMIDAD", "NO CONFORMIDAD") -> #N/A | Y41: =IF(N41<15%, "CONFORMIDAD", "NO CONFORMIDAD") -> #N/A | Z41: =IF(N41<20%, "CONFORMIDAD", "NO CONFORMIDAD") -> #N/A | AE41: =COUNT(N41:N46) -> 0 | AG41: =VLOOKUP(AE41,Tabla2[],2,FALSE) -> #N/A | AH41: =IF(AF41>=AG41,"CONFORMIDAD","NO CONFORMIDAD") -> #N/A | AJ41: =+B46+(AI41*30) -> 45536 | AK41: =IF(U41<10%, "CONFORMIDAD", "NO CONFORMIDAD") -> #N/A | AL41: =IF(U41<15%, "CONFORMIDAD", "NO CONFORMIDAD") -> #N/A | AM41: =IF(U41<20%, "CONFORMIDAD", "NO CONFORMIDAD") -> #N/A | AR41: =COUNT(N41:N46) -> 0 | AT41: =VLOOKUP(AR41,Tabla2[],2,FALSE) -> #N/A | AU41: =IF(AS41>=AT41,"CONFORMIDAD","NO CONFORMIDAD") -> #N/A | AW41: =+B46+(AV41*30) -> 45536 | BL41: 0.1
...

Sheet DATOS
B4: Bombas
B5: Muestreador | C5: Caudal
B6: PANAMETRICS | C6: 1.7
B7: SKC 2 | C7: 2
B8: GSM 2 | C8: 2
B9: SKC 2 | C9: 2
B10: CASELLA | C10: 2.2
B11: BGI 2,2 | C11: 2.2
B12: SKC 2,5 | C12: 2.5
B13: SKC 2,75 | C13: 2.75
B14: SKC 3 | C14: 3
B15: BGI 4,2 | C15: 4.2
B16: SKC 8 | C16: 8
B17: SKC 8 | C17: 4 y 8
B18: BGI 8,5 | C18: 8,5-9
B19: ARELCO 10 | C19: 10
B20: GSM 10 | C20: 10
B24: Número de mediciones de la exposición | C24: UT
B25: 6 | C25: 2.187
B26: 7 | C26: 2.12
B27: 8 | C27: 2.072
B28: 9 | C28: 2.035
B29: 10 | C29: 2.005
B30: 11 | C30: 1.981
B31: 12 | C31: 1.961
B32: 13 | C32: 1.944
B33: 14 | C33: 1.929
B34: 15 | C34: 1.917
B35: 16 | C35: 1.905
B36: 17 | C36: 1.895
... B49: 30 | C49: 1.82
