Workbook

Sheet IDENTIFICACIÓN
B2: IDENTIFICACIÓN
B3: CENTRO DE TRABAJO | C3: LUGAR DE TRABAJO | D3: TAREAS | E3: PUESTO DE TRABAJO / GES | F3: EXPOSICIÓN | G3: EVALUACIÓN | H3: EMPRESA / TRABAJADOR EXPUESTO | I3: CATEGORÍA | J3: Nº
B4: CENTRO VITORIA | C4: FÁBRICA 1 | D4: Gestión técnica y de seguridad | E4: Direccion técnica | F4: SI | G4: SI | H4: PROPIA | J4: 1
B5: CENTRO VITORIA | C5: FÁBRICA 1 | D5: Control y gestión de personal y producción | E5: Encargado | F5: SI | G5: SI | H5: PROPIA | J5: 2
B6: CENTRO VITORIA | C6: FÁBRICA 1 | D6: Operación y control de la planta de molienda | E6: Operario de molienda | F6: SI | G6: SI | H6: PROPIA | J6: 3
B7: CENTRO VITORIA | C7: FÁBRICA 1 | D7: Operación y control de zona de clasificado | E7: Operario de clasificación | F7: SI | G7: SI | H7: PROPIA | J7: 4
B8: CENTRO VITORIA | C8: FÁBRICA 1 | D8: Ayuda a operario de clasificación | E8: Ayudante operario de clasificación | F8: SI | G8: SI | H8: PROPIA | J8: 5
B9: CENTRO VITORIA | C9: FÁBRICA 1 | D9: Operación y control de zona de ensacado | E9: Operario zona ensacado | F9: SI | G9: SI | H9: PROPIA | J9: 6
B10: CENTRO VITORIA | C10: FÁBRICA 1 | D10: Carga y ejecución voladura | E10: Carretillero | F10: SI | G10: SI | H10: PROPIA | J10: 7
B11: CENTRO VITORIA | C11: FÁBRICA 1 | D11: Tareas de mantenimiento | E11: Operario de mantenimiento | F11: SI | G11: SI | H11: PROPIA | J11: 8
B12: CENTRO VITORIA | C12: FÁBRICA 1 | D12: Transporte material de planta | E12: Operario de camión bañera | F12: SI | G12: SI | H12: PROPIA | J12: 9
B13: CENTRO VITORIA | C13: FÁBRICA 1 | D13: Pesado de material | E13: Bascuslita | F13: SI | G13: SI | H13: PROPIA | J13: 10
B14: CENTRO VITORIA | C14: FÁBRICA 1 | D14: Ejecución y control de ensayos de laboratorio | E14: Técnico de laboratorio | F14: SI | G14: SI | H14: PROPIA | J14: 11

Sheet PARTIDA
A2: DATOS DE PARTIDA PARA EL MUESTREO
A3: ELECCIÓN DEL MUESTREADOR Y VOLUMEN DE MEUSTREO MÍNIMO
A4: POLVO
A5: Muestreador seleccionado: | D5: SKC 2,5
A6: Caudal - l/min: | D6: =VLOOKUP(D5,Tabla1[],2,FALSE) -> 2.5
A7: LOQ (Laboratorio) µg: | D7: 3
A8: Volumen mínimo de muestreo (l): | D8: =D7/(0.1*3) -> 10
A9: Tiempo mínimo de muestreo (min): | D9: =D8/D6 -> 4
A10: Tiempo mínimo de muestreo (h): | D10: =+D9/60 -> 0.066666667
A11: Comentarios | D11: {=_xlfn.IFS(D10<8,"PUEDE MEDIR DENTRO DE LA JORNADA DE 8 H",D10>8,"NO PUEDE MEDIR DENTRO DE LA JORNADA DE 8H")} -> PUEDE MEDIR DENTRO DE LA JORNADA DE 8 H
A13: CUARZO
A14: Muestreador seleccionado: | D14: CASELLA
A15: Caudal: | D15: =VLOOKUP(D14,Tabla1[],2,FALSE) -> 2.2 | E15: LABORATORIO INS
A16: LOQ (Laboratorio) µg: | D16: 3 | E16: {=_xlfn.IFS(D16=3,"FTIR",D16=10,"DXR")} -> FTIR
A17: Volumen mínimo de muestreo (l): | D17: =D16/(0.1*0.05) -> 600
A18: Tiempo mínimo de muestreo: | D18: =D17/D15 -> 272.72727
A19: Tiempo mínimo de muestreo (h): | D19: =+D18/60 -> 4.5454545
A20: Comentarios | D20: {=_xlfn.IFS(D19<8,"PUEDE MEDIR DENTRO DE LA JORNADA DE 8 H",D19>8,"NO PUEDE MEDIR DENTRO DE LA JORNADA DE 8H")} -> PUEDE MEDIR DENTRO DE LA JORNADA DE 8 H
A23: VLA-ED MATERIA PARTICUALADA | D23: 3
A24: VLA-ED SILICE CRISTALINA | D24: 0.05

Sheet MEDICIONES
B1: CONTROL DE POLVO RESPIRABLE, SÍLICE LIBRE - ITC 02.0.02
X3: MATERIA PARTICULADA - POLVO RESPIRABLE | AK3: SCR
J4: FRACCIÓN POLVO RESPIRABLE | P4: FRACCIÓN SÍLICE CRISTALINA LIBRE RESPIRABLE | X4: PRUEBA PRELIMINAR | AA4: PRUEBA ESTADÍSTICA | AK4: PRUEBA PRELIMINAR | AN4: PRUEBA ESTADÍSTICA
A5: PUESTO DE TRABAJO | B5: FECHA | C5: ID MUESTRA | D5: Muestrador | E5: Hora inicio | F5: Hora fin | G5: TIEMPO DE MUESTREO minutos | H5: Caudal (l/min) | I5: VOLUMEN AIRE litros | J5: MASA (μg) | K5: MASA (mg) | L5: CONCENTRACIÓN (mg/m3) | M5: ED (mg/m3)* | N5: I | O5: < LOQ | P5: MASA (μg) | Q5: MASA (mg) | R5: % | S5: CONCENTRACIÓN (mg/m3) | T5: ED (mg/m3) | U5: I | V5: < LOQ | W5: COMENTARIOS | X5: 3 Medicioens < 10% VLA-ED | Y5: 4 Medicioens < 15% VLA-ED | Z5: 5 Medicioens < 20% VLA-ED | AA5: CÓDIGO CALCULADOR INSST | AB5: DISTRIBUCIÓN | AC5: MG / MA | AD5: DSG /DA | AE5: nº de mediciones | AF5: UR | AG5: UT | AH5: RESULTADO | AI5: PERIODICIDAD (meses) | AJ5: Fecha de nueva medicion | AK5: 3 Medicioens < 10% VLA-ED | AL5: 4 Medicioens < 15% VLA-ED | AM5: 5 Medicioens < 20% VLA-ED | AN5: CÓDIGO CALCULADOR INSST | AO5: DISTRIBUCIÓN | AP5: MG / MA | AQ5: DSG /DA | AR5: nº de mediciones | AS5: UR | AT5: UT | AU5: RESULTADO | AV5: PERIODICIDAD (meses) | AW5: Fecha de nueva medicion
A6: Direccion técnica | B6: 45293 | C6: 1 | D6: CASELLA | E6: 0.33333333 | F6: 0.66666667 | G6: =+(F6-E6)*1440 -> 480 | H6: =VLOOKUP(D6,Tabla1[],2,FALSE) -> 2.2 | I6: =+H6*G6 -> 1056 | J6: 300 | K6: =+J6/1000 -> 0.3 | L6: =+K6/(I6/1000) -> 0.28409091 | M6: =+L6*480/G6 -> 0.28409091 | N6: =+(M6/3) -> 0.09469697 | O6: =IF(J6<=PARTIDA!$D$7,"SI","NO") -> NO | P6: 11 | Q6: =+P6/1000 -> 0.011 | R6: =+Q6/K6 -> 0.036666667 | S6: =+Q6/(I6/1000) -> 0.010416667 | T6: =+S6*480/G6 -> 0.010416667 | U6: =+(T6/0.05) -> 0.20833333 | V6: =IF(P6<=PARTIDA!$D$16,"SI","NO") -> NO | X6: =IF(N6<10%, "CONFORMIDAD", "NO CONFORMIDAD") -> CONFORMIDAD | Y6: =IF(N6<15%, "CONFORMIDAD", "NO CONFORMIDAD") -> CONFORMIDAD | Z6: =IF(N6<20%, "CONFORMIDAD", "NO CONFORMIDAD") -> CONFORMIDAD | AA6: 9763931 | AB6: LOG-NORMAL | AC6: 0.3771 | AD6: 1.223 | AE6: =COUNT(N6:N11) -> 6 | AF6: 10.29 | AG6: =VLOOKUP(AE6,Tabla2[],2,FALSE) -> 2.187 | AH6: =IF(AF6>=AG6,"CONFORMIDAD","NO CONFORMIDAD") -> CONFORMIDAD | AI6: 36 | AJ6: =+B11+(AI6*30) -> 46529 | AK6: =IF(U6<10%, "CONFORMIDAD", "NO CONFORMIDAD") -> NO CONFORMIDAD | AL6: =IF(U6<15%, "CONFORMIDAD", "NO CONFORMIDAD") -> NO CONFORMIDAD | AM6: =IF(U6<20%, "CONFORMIDAD", "NO CONFORMIDAD") -> NO CONFORMIDAD | AN6: 472982 | AO6: LOG-NORMAL | AP6: 0.0101 | AQ6: 1.084 | AR6: =COUNT(N6:N11) -> 6 | AS6: 19.83 | AT6: =VLOOKUP(AR6,Tabla2[],2,FALSE) -> 2.187 | AU6: =IF(AS6>=AT6,"CONFORMIDAD","NO CONFORMIDAD") -> CONFORMIDAD | AV6: 36 | AW6: =+B11+(AV6*30) -> 46529 | AX6: 8072660 | BL6: 0.1
B7: 45316 | C7: 2 | D7: CASELLA | E7: 0.33333333 | F7: 0.66666667 | G7: =+(F7-E7)*1440 -> 480 | H7: =VLOOKUP(D7,Tabla1[],2,FALSE) -> 2.2 | I7: =+H7*G7 -> 1056 | J7: 500 | K7: =+J7/1000 -> 0.5 | L7: =+K7/(I7/1000) -> 0.47348485 | M7: =+L7*480/G7 -> 0.47348485 | N7: =+(M7/3) -> 0.15782828 | O7: =IF(J7<=PARTIDA!$D$7,"SI","NO") -> NO | P7: 12 | Q7: =+P7/1000 -> 0.012 | R7: =+Q7/K7 -> 0.024 | S7: =+Q7/(I7/1000) -> 0.011363636 | T7: =+S7*480/G7 -> 0.011363636 | U7: =+(T7/0.05) -> 0.22727273 | V7: =IF(P7<=PARTIDA!$D$16,"SI","NO") -> NO | X7: =IF(N7<10%, "CONFORMIDAD", "NO CONFORMIDAD") -> NO CONFORMIDAD | Y7: =IF(N7<15%, "CONFORMIDAD", "NO CONFORMIDAD") -> NO CONFORMIDAD | Z7: =IF(N7<20%, "CONFORMIDAD", "NO CONFORMIDAD") -> CONFORMIDAD | AK7: =IF(U7<10%, "CONFORMIDAD", "NO CONFORMIDAD") -> NO CONFORMIDAD | AL7: =IF(U7<15%, "CONFORMIDAD", "NO CONFORMIDAD") -> NO CONFORMIDAD | AM7: =IF(U7<20%, "CONFORMIDAD", "NO CONFORMIDAD") -> NO CONFORMIDAD | BL7: 0.1
B8: 45325 | C8: 3 | D8: CASELLA | E8: 0.33333333 | F8: 0.66666667 | G8: =+(F8-E8)*1440 -> 480 | H8: =VLOOKUP(D8,Tabla1[],2,FALSE) -> 2.2 | I8: =+H8*G8 -> 1056 | J8: 350 | K8: =+J8/1000 -> 0.35 | L8: =+K8/(I8/1000) -> 0.33143939 | M8: =+L8*480/G8 -> 0.33143939 | N8: =+(M8/3) -> 0.1104798 | O8: =IF(J8<=PARTIDA!$D$7,"SI","NO") -> NO | P8: 10 | Q8: =+P8/1000 -> 0.01 | R8: =+Q8/K8 -> 0.028571429 | S8: =+Q8/(I8/1000) -> 0.009469697 | T8: =+S8*480/G8 -> 0.009469697 | U8: =+(T8/0.05) -> 0.18939394 | V8: =IF(P8<=PARTIDA!$D$16,"SI","NO") -> NO | X8: =IF(N8<10%, "CONFORMIDAD", "NO CONFORMIDAD") -> NO CONFORMIDAD | Y8: =IF(N8<15%, "CONFORMIDAD", "NO CONFORMIDAD") -> CONFORMIDAD | Z8: =IF(N8<20%, "CONFORMIDAD", "NO CONFORMIDAD") -> CONFORMIDAD | AK8: =IF(U8<10%, "CONFORMIDAD", "NO CONFORMIDAD") -> NO CONFORMIDAD | AL8: =IF(U8<15%, "CONFORMIDAD", "NO CONFORMIDAD") -> NO CONFORMIDAD | AM8: =IF(U8<20%, "CONFORMIDAD", "NO CONFORMIDAD") -> CONFORMIDAD | BL8: 0.1
B9: 45356 | C9: 4 | D9: CASELLA | E9: 0.33333333 | F9: 0.66666667 | G9: =+(F9-E9)*1440 -> 480 | H9: =VLOOKUP(D9,Tabla1[],2,FALSE) -> 2.2 | I9: =+H9*G9 -> 1056 | J9: 400 | K9: =+J9/1000 -> 0.4 | L9: =+K9/(I9/1000) -> 0.37878788 | M9: =+L9*480/G9 -> 0.37878788 | N9: =+(M9/3) -> 0.12626263 | O9: =IF(J9<=PARTIDA!$D$7,"SI","NO") -> NO | P9: 10 | Q9: =+P9/1000 -> 0.01 | R9: =+Q9/K9 -> 0.025 | S9: =+Q9/(I9/1000) -> 0.009469697 | T9: =+S9*480/G9 -> 0.009469697 | U9: =+(T9/0.05) -> 0.18939394 | V9: =IF(P9<=PARTIDA!$D$16,"SI","NO") -> NO | X9: Si alguna de las anteriores es no conformidad y < del 15 %: "NO DECISIÓN" pasaremos a 4 mediciones | Y9: =IF(N9<15%, "CONFORMIDAD", "NO CONFORMIDAD") -> CONFORMIDAD | Z9: =IF(N9<20%, "CONFORMIDAD", "NO CONFORMIDAD") -> CONFORMIDAD | AK9: Si alguna de las anteriores es no conformidad y < del 15 %: "NO DECISIÓN" pasaremos a 4 mediciones | AL9: =IF(U9<15%, "CONFORMIDAD", "NO CONFORMIDAD") -> NO CONFORMIDAD | AM9: =IF(U9<20%, "CONFORMIDAD", "NO CONFORMIDAD") -> CONFORMIDAD | BL9: 0.1
B10: 45418 | C10: 5 | D10: CASELLA | E10: 0.33333333 | F10: 0.66666667 | G10: =+(F10-E10)*1440 -> 480 | H10: =VLOOKUP(D10,Tabla1[],2,FALSE) -> 2.2 | I10: =+H10*G10 -> 1056 | J10: 380 | K10: =+J10/1000 -> 0.38 | L10: =+K10/(I10/1000) -> 0.35984848 | M10: =+L10*480/G10 -> 0.35984848 | N10: =+(M10/3) -> 0.11994949 | O10: =IF(J10<=PARTIDA!$D$7,"SI","NO") -> NO | P10: 11 | Q10: =+P10/1000 -> 0.011 | R10: =+Q10/K10 -> 0.028947368 | S10: =+Q10/(I10/1000) -> 0.010416667 | T10: =+S10*480/G10 -> 0.010416667 | U10: =+(T10/0.05) -> 0.20833333 | V10: =IF(P10<=PARTIDA!$D$16,"SI","NO") -> NO | Y10: Si alguna de las anteriores es no conformidad y < del 20 %: "NO DECISIÓN" pasaremos a 4 mediciones | Z10: =IF(N10<20%, "CONFORMIDAD", "NO CONFORMIDAD") -> CONFORMIDAD | AL10: Si alguna de las anteriores es no conformidad y < del 20 %: "NO DECISIÓN" pasaremos a 4 mediciones | AM10: =IF(U10<20%, "CONFORMIDAD", "NO CONFORMIDAD") -> NO CONFORMIDAD | BL10: 0.1
B11: 45449 | C11: 6 | D11: CASELLA | E11: 0.33333333 | F11: 0.66666667 | G11: =+(F11-E11)*1440 -> 480 | H11: =VLOOKUP(D11,Tabla1[],2,FALSE) -> 2.2 | I11: =+H11*G11 -> 1056 | J11: 500 | K11: =+J11/1000 -> 0.5 | L11: =+K11/(I11/1000) -> 0.47348485 | M11: =+L11*480/G11 -> 0.47348485 | N11: =+(M11/3) -> 0.15782828 | O11: =IF(J11<=PARTIDA!$D$7,"SI","NO") -> NO | P11: 10 | Q11: =+P11/1000 -> 0.01 | R11: =+Q11/K11 -> 0.02 | S11: =+Q11/(I11/1000) -> 0.009469697 | T11: =+S11*480/G11 -> 0.009469697 | U11: =+(T11/0.05) -> 0.18939394 | V11: =IF(P11<=PARTIDA!$D$16,"SI","NO") -> NO | Z11: Si alguna de las pruebas superior al 20 %: "NO DECISIÓN" pasamos a prueba estadística | AM11: Si alguna de las pruebas superior al 20 %: "NO DECISIÓN" pasamos a prueba estadística | BL11: 0.1
BL12: 0.1
A13: Encargado | B13: 45293 | D13: BGI 4,2 | E13: 0.25 | F13: 0.58333333 | G13: =+(F13-E13)*1440 -> 480 | H13: 2.21 | I13: =+H13*G13 -> 1060.8 | J13: 3500 | K13: =+J13/1000 -> 3.5 | L13: =+K13/(I13/1000) -> 3.2993967 | M13: =+L13*480/G13 -> 3.2993967 | N13: =+(M13/3) -> 1.0997989 | O13: =IF(J13<=PARTIDA!$D$7,"SI","NO") -> NO | Q13: =+P13/1000 -> 0 | R13: =+Q13/K13 -> 0 | S13: =+Q13/(I13/1000) -> 0 | T13: =+S13*480/G13 -> 0 | U13: =+(T13/0.05) -> 0 | V13: =IF(P13<=PARTIDA!$D$16,"SI","NO") -> SI | X13: =IF(N13<10%, "CONFORMIDAD", "NO CONFORMIDAD") -> NO CONFORMIDAD | Y13: =IF(N13<15%, "CONFORMIDAD", "NO CONFORMIDAD") -> NO CONFORMIDAD | Z13: =IF(N13<20%, "CONFORMIDAD", "NO CONFORMIDAD") -> NO CONFORMIDAD | AE13: =COUNT(N13:N18) -> 1 | AG13: =VLOOKUP(AE13,Tabla2[],2,FALSE) -> #N/A | AH13: =IF(AF13>=AG13,"CONFORMIDAD","NO CONFORMIDAD") -> #N/A | AJ13: =+B18+(AI13*30) -> 45449 | AK13: =IF(U13<10%, "CONFORMIDAD", "NO CONFORMIDAD") -> CONFORMIDAD | AL13: =IF(U13<15%, "CONFORMIDAD", "NO CONFORMIDAD") -> CONFORMIDAD | AM13: =IF(U13<20%, "CONFORMIDAD", "NO CONFORMIDAD") -> CONFORMIDAD | AR13: =COUNT(N13:N18) -> 1 | AT13: =VLOOKUP(AR13,Tabla2[],2,FALSE) -> #N/A | AU13: =IF(AS13>=AT13,"CONFORMIDAD","NO CONFORMIDAD") -> #N/A | AW13: =+B18+(AV13*30) -> 45449 | BL13: 0.1
B14: 45316 | G14: =+(F14-E14)*1440 -> 0 | H14: =VLOOKUP(D14,Tabla1[],2,FALSE) -> #N/A | I14: =+H14*G14 -> #N/A | K14: =+J14/1000 -> 0 | L14: =+K14/(I14/1000) -> #N/A | M14: =+L14*480/G14 -> #N/A | N14: =+(M14/3) -> #N/A | O14: =IF(J14<=PARTIDA!$D$7,"SI","NO") -> SI | Q14: =+P14/1000 -> 0 | R14: =+Q14/K14 -> #DIV/0! | S14: =+Q14/(I14/1000) -> #N/A | T14: =+S14*480/G14 -> #N/A | U14: =+(T14/0.05) -> #N/A | V14: =IF(P14<=PARTIDA!$D$16,"SI","NO") -> SI | X14: =IF(N14<10%, "CONFORMIDAD", "NO CONFORMIDAD") -> #N/A | Y14: =IF(N14<15%, "CONFORMIDAD", "NO CONFORMIDAD") -> #N/A | Z14: =IF(N14<20%, "CONFORMIDAD", "NO CONFORMIDAD") -> #N/A | AK14: =IF(U14<10%, "CONFORMIDAD", "NO CONFORMIDAD") -> #N/A | AL14: =IF(U14<15%, "CONFORMIDAD", "NO CONFORMIDAD") -> #N/A | AM14: =IF(U14<20%, "CONFORMIDAD", "NO CONFORMIDAD") -> #N/A | AZ14: IMPORTANTE | BL14: 0.1
B15: 45325 | G15: =+(F15-E15)*1440 -> 0 | H15: =VLOOKUP(D15,Tabla1[],2,FALSE) -> #N/A | I15: =+H15*G15 -> #N/A | K15: =+J15/1000 -> 0 | L15: =+K15/(I15/1000) -> #N/A | M15: =+L15*480/G15 -> #N/A | N15: =+(M15/3) -> #N/A | O15: =IF(J15<=PARTIDA!$D$7,"SI","NO") -> SI | Q15: =+P15/1000 -> 0 | R15: =+Q15/K15 -> #DIV/0! | S15: =+Q15/(I15/1000) -> #N/A | T15: =+S15*480/G15 -> #N/A | U15: =+(T15/0.05) -> #N/A | V15: =IF(P15<=PARTIDA!$D$16,"SI","NO") -> SI | X15: =IF(N15<10%, "CONFORMIDAD", "NO CONFORMIDAD") -> #N/A | Y15: =IF(N15<15%, "CONFORMIDAD", "NO CONFORMIDAD") -> #N/A | Z15: =IF(N15<20%, "CONFORMIDAD", "NO CONFORMIDAD") -> #N/A | AK15: =IF(U15<10%, "CONFORMIDAD", "NO CONFORMIDAD") -> #N/A | AL15: =IF(U15<15%, "CONFORMIDAD", "NO CONFORMIDAD") -> #N/A | AM15: =IF(U15<20%, "CONFORMIDAD", "NO CONFORMIDAD") -> #N/A | AZ15: No está incluida la Cristobalita - Simplemente es añadir un apartado igual que el de la SCR | BL15: 0.1
B16: 45356 | G16: =+(F16-E16)*1440 -> 0 | H16: =VLOOKUP(D16,Tabla1[],2,FALSE) -> #N/A | I16: =+H16*G16 -> #N/A | K16: =+J16/1000 -> 0 | L16: =+K16/(I16/1000) -> #N/A | M16: =+L16*480/G16 -> #N/A | N16: =+(M16/3) -> #N/A | O16: =IF(J16<=PARTIDA!$D$7,"SI","NO") -> SI | Q16: =+P16/1000 -> 0 | R16: =+Q16/K16 -> #DIV/0! | S16: =+Q16/(I16/1000) -> #N/A | T16: =+S16*480/G16 -> #N/A | U16: =+(T16/0.05) -> #N/A | V16: =IF(P16<=PARTIDA!$D$16,"SI","NO") -> SI | X16: Si alguna de las anteriores es no conformidad y < del 15 %: "NO DECISIÓN" pasaremos a 4 mediciones | Y16: =IF(N16<15%, "CONFORMIDAD", "NO CONFORMIDAD") -> #N/A | Z16: =IF(N16<20%, "CONFORMIDAD", "NO CONFORMIDAD") -> #N/A | AK16: Si alguna de las anteriores es no conformidad y < del 15 %: "NO DECISIÓN" pasaremos a 4 mediciones | AL16: =IF(U16<15%, "CONFORMIDAD", "NO CONFORMIDAD") -> #N/A | AM16: =IF(U16<20%, "CONFORMIDAD", "NO CONFORMIDAD") -> #N/A | AZ16: No está incluida la tridimita - Simplemente es añadir un apartado igual que el de la SCR | BL16: 0.1
B17: 45418 | G17: =+(F17-E17)*1440 -> 0 | H17: =VLOOKUP(D17,Tabla1[],2,FALSE) -> #N/A | I17: =+H17*G17 -> #N/A | K17: =+J17/1000 -> 0 | L17: =+K17/(I17/1000) -> #N/A | M17: =+L17*480/G17 -> #N/A | N17: =+(M17/3) -> #N/A | O17: =IF(J17<=PARTIDA!$D$7,"SI","NO") -> SI | Q17: =+P17/1000 -> 0 | R17: =+Q17/K17 -> #DIV/0! | S17: =+Q17/(I17/1000) -> #N/A | T17: =+S17*480/G17 -> #N/A | U17: =+(T17/0.05) -> #N/A | V17: =IF(P17<=PARTIDA!$D$16,"SI","NO") -> SI | Y17: Si alguna de las anteriores es no conformidad y < del 20 %: "NO DECISIÓN" pasaremos a 4 mediciones | Z17: =IF(N17<20%, "CONFORMIDAD", "NO CONFORMIDAD") -> #N/A | AL17: Si alguna de las anteriores es no conformidad y < del 20 %: "NO DECISIÓN" pasaremos a 4 mediciones | AM17: =IF(U17<20%, "CONFORMIDAD", "NO CONFORMIDAD") -> #N/A | AZ17: En caso de tener presencia de Cristobalita y tridimita el ensayo debe de ser por DXR y considerar el efecto aditivo | BL17: 0.1
B18: 45449 | G18: =+(F18-E18)*1440 -> 0 | H18: =VLOOKUP(D18,Tabla1[],2,FALSE) -> #N/A | I18: =+H18*G18 -> #N/A | K18: =+J18/1000 -> 0 | L18: =+K18/(I18/1000) -> #N/A | M18: =+L18*480/G18 -> #N/A | N18: =+(M18/3) -> #N/A | O18: =IF(J18<=PARTIDA!$D$7,"SI","NO") -> SI | Q18: =+P18/1000 -> 0 | R18: =+Q18/K18 -> #DIV/0! | S18: =+Q18/(I18/1000) -> #N/A | T18: =+S18*480/G18 -> #N/A | U18: =+(T18/0.05) -> #N/A | V18: =IF(P18<=PARTIDA!$D$16,"SI","NO") -> SI | Z18: Si alguna de las pruebas superior al 20 %: "NO DECISIÓN" pasamos a prueba estadística | AM18: Si alguna de las pruebas superior al 20 %: "NO DECISIÓN" pasamos a prueba estadística | BL18: 0.1
BL19: 0.1
A20: Operario de molienda | B20: 45293 | G20: =+(F20-E20)*1440 -> 0 | H20: =VLOOKUP(D20,Tabla1[],2,FALSE) -> #N/A | I20: =+H20*G20 -> #N/A | K20: =+J20/1000 -> 0 | L20: =+K20/(I20/1000) -> #N/A | M20: =+L20*480/G20 -> #N/A | N20: =+(M20/3) -> #N/A | O20: =IF(J20<=PARTIDA!$D$7,"SI","NO") -> SI | Q20: =+P20/1000 -> 0 | R20: =+Q20/K20 -> #DIV/0! | S20: =+Q20/(I20/1000) -> #N/A | T20: =+S20*480/G20 -> #N/A | U20: =+(T20/0.05) -> #N/A | V20: =IF(P20<=PARTIDA!$D$16,"SI","NO") -> SI | X20: =IF(N20<10%, "CONFORMIDAD", "NO CONFORMIDAD") -> #N/A | Y20: =IF(N20<15%, "CONFORMIDAD", "NO CONFORMIDAD") -> #N/A | Z20: =IF(N20<20%, "CONFORMIDAD", "NO CONFORMIDAD") -> #N/A | AE20: =COUNT(N20:N25) -> 0 | AG20: =VLOOKUP(AE20,Tabla2[],2,FALSE) -> #N/A | AH20: =IF(AF20>=AG20,"CONFORMIDAD","NO CONFORMIDAD") -> #N/A | AJ20: =+B25+(AI20*30) -> 45449 | AK20: =IF(U20<10%, "CONFORMIDAD", "NO CONFORMIDAD") -> #N/A | AL20: =IF(U20<15%, "CONFORMIDAD", "NO CONFORMIDAD") -> #N/A | AM20: =IF(U20<20%, "CONFORMIDAD", "NO CONFORMIDAD") -> #N/A | AR20: =COUNT(N20:N25) -> 0 | AT20: =VLOOKUP(AR20,Tabla2[],2,FALSE) -> #N/A | AU20: =IF(AS20>=AT20,"CONFORMIDAD","NO CONFORMIDAD") -> #N/A | AW20: =+B25+(AV20*30) -> 45449 | BL20: 0.1
B21: 45316 | G21: =+(F21-E21)*1440 -> 0 | H21: =VLOOKUP(D21,Tabla1[],2,FALSE) -> #N/A | I21: =+H21*G21 -> #N/A | K21: =+J21/1000 -> 0 | L21: =+K21/(I21/1000) -> #N/A | M21: =+L21*480/G21 -> #N/A | N21: =+(M21/3) -> #N/A | O21: =IF(J21<=PARTIDA!$D$7,"SI","NO") -> SI | Q21: =+P21/1000 -> 0 | R21: =+Q21/K21 -> #DIV/0! | S21: =+Q21/(I21/1000) -> #N/A | T21: =+S21*480/G21 -> #N/A | U21: =+(T21/0.05) -> #N/A | V21: =IF(P21<=PARTIDA!$D$16,"SI","NO") -> SI | X21: =IF(N21<10%, "CONFORMIDAD", "NO CONFORMIDAD") -> #N/A | Y21: =IF(N21<15%, "CONFORMIDAD", "NO CONFORMIDAD") -> #N/A | Z21: =IF(N21<20%, "CONFORMIDAD", "NO CONFORMIDAD") -> #N/A | AK21: =IF(U21<10%, "CONFORMIDAD", "NO CONFORMIDAD") -> #N/A | AL21: =IF(U21<15%, "CONFORMIDAD", "NO CONFORMIDAD") -> #N/A | AM21: =IF(U21<20%, "CONFORMIDAD", "NO CONFORMIDAD") -> #N/A | BL21: 0.1
B22: 45325 | G22: =+(F22-E22)*1440 -> 0 | H22: =VLOOKUP(D22,Tabla1[],2,FALSE) -> #N/A | I22: =+H22*G22 -> #N/A | K22: =+J22/1000 -> 0 | L22: =+K22/(I22/1000) -> #N/A | M22: =+L22*480/G22 -> #N/A | N22: =+(M22/3) -> #N/A | O22: =IF(J22<=PARTIDA!$D$7,"SI","NO") -> SI | Q22: =+P22/1000 -> 0 | R22: =+Q22/K22 -> #DIV/0! | S22: =+Q22/(I22/1000) -> #N/A | T22: =+S22*480/G22 -> #N/A | U22: =+(T22/0.05) -> #N/A | V22: =IF(P22<=PARTIDA!$D$16,"SI","NO") -> SI | X22: =IF(N22<10%, "CONFORMIDAD", "NO CONFORMIDAD") -> #N/A | Y22: =IF(N22<15%, "CONFORMIDAD", "NO CONFORMIDAD") -> #N/A | Z22: =IF(N22<20%, "CONFORMIDAD", "NO CONFORMIDAD") -> #N/A | AK22: =IF(U22<10%, "CONFORMIDAD", "NO CONFORMIDAD") -> #N/A | AL22: =IF(U22<15%, "CONFORMIDAD", "NO CONFORMIDAD") -> #N/A | AM22: =IF(U22<20%, "CONFORMIDAD", "NO CONFORMIDAD") -> #N/A | BL22: 0.1
B23: 45356 | G23: =+(F23-E23)*1440 -> 0 | H23: =VLOOKUP(D23,Tabla1[],2,FALSE) -> #N/A | I23: =+H23*G23 -> #N/A | K23: =+J23/1000 -> 0 | L23: =+K23/(I23/1000) -> #N/A | M23: =+L23*480/G23 -> #N/A | N23: =+(M23/3) -> #N/A | O23: =IF(J23<=PARTIDA!$D$7,"SI","NO") -> SI | Q23: =+P23/1000 -> 0 | R23: =+Q23/K23 -> #DIV/0! | S23: =+Q23/(I23/1000) -> #N/A | T23: =+S23*480/G23 -> #N/A | U23: =+(T23/0.05) -> #N/A | V23: =IF(P23<=PARTIDA!$D$16,"SI","NO") -> SI | X23: Si alguna de las anteriores es no conformidad y < del 15 %: "NO DECISIÓN" pasaremos a 4 mediciones | Y23: =IF(N23<15%, "CONFORMIDAD", "NO CONFORMIDAD") -> #N/A | Z23: =IF(N23<20%, "CONFORMIDAD", "NO CONFORMIDAD") -> #N/A | AK23: Si alguna de las anteriores es no conformidad y < del 15 %: "NO DECISIÓN" pasaremos a 4 mediciones | AL23: =IF(U23<15%, "CONFORMIDAD", "NO CONFORMIDAD") -> #N/A | AM23: =IF(U23<20%, "CONFORMIDAD", "NO CONFORMIDAD") -> #N/A | BL23: 0.1
B24: 45418 | G24: =+(F24-E24)*1440 -> 0 | H24: =VLOOKUP(D24,Tabla1[],2,FALSE) -> #N/A | I24: =+H24*G24 -> #N/A | K24: =+J24/1000 -> 0 | L24: =+K24/(I24/1000) -> #N/A | M24: =+L24*480/G24 -> #N/A | N24: =+(M24/3) -> #N/A | O24: =IF(J24<=PARTIDA!$D$7,"SI","NO") -> SI | Q24: =+P24/1000 -> 0 | R24: =+Q24/K24 -> #DIV/0! | S24: =+Q24/(I24/1000) -> #N/A | T24: =+S24*480/G24 -> #N/A | U24: =+(T24/0.05) -> #N/A | V24: =IF(P24<=PARTIDA!$D$16,"SI","NO") -> SI | Y24: Si alguna de las anteriores es no conformidad y < del 20 %: "NO DECISIÓN" pasaremos a 4 mediciones | Z24: =IF(N24<20%, "CONFORMIDAD", "NO CONFORMIDAD") -> #N/A | AL24: Si alguna de las anteriores es no conformidad y < del 20 %: "NO DECISIÓN" pasaremos a 4 mediciones | AM24: =IF(U24<20%, "CONFORMIDAD", "NO CONFORMIDAD") -> #N/A | BL24: 0.1
B25: 45449 | G25: =+(F25-E25)*1440 -> 0 | H25: =VLOOKUP(D25,Tabla1[],2,FALSE) -> #N/A | I25: =+H25*G25 -> #N/A | K25: =+J25/1000 -> 0 | L25: =+K25/(I25/1000) -> #N/A | M25: =+L25*480/G25 -> #N/A | N25: =+(M25/3) -> #N/A | O25: =IF(J25<=PARTIDA!$D$7,"SI","NO") -> SI | Q25: =+P25/1000 -> 0 | R25: =+Q25/K25 -> #DIV/0! | S25: =+Q25/(I25/1000) -> #N/A | T25: =+S25*480/G25 -> #N/A | U25: =+(T25/0.05) -> #N/A | V25: =IF(P25<=PARTIDA!$D$16,"SI","NO") -> SI | Z25: Si alguna de las pruebas superior al 20 %: "NO DECISIÓN" pasamos a prueba estadística | AM25: Si alguna de las pruebas superior al 20 %: "NO DECISIÓN" pasamos a prueba estadística | BL25: 0.1
BL26: 0.1
A27: Operario de clasificación | B27: 45292 | G27: =+(F27-E27)*1440 -> 0 | H27: =VLOOKUP(D27,Tabla1[],2,FALSE) -> #N/A | I27: =+H27*G27 -> #N/A | K27: =+J27/1000 -> 0 | L27: =+K27/(I27/1000) -> #N/A | M27: =+L27*480/G27 -> #N/A | N27: =+(M27/3) -> #N/A | O27: =IF(J27<=PARTIDA!$D$7,"SI","NO") -> SI | Q27: =+P27/1000 -> 0 | R27: =+Q27/K27 -> #DIV/0! | S27: =+Q27/(I27/1000) -> #N/A | T27: =+S27*480/G27 -> #N/A | U27: =+(T27/0.05) -> #N/A | V27: =IF(P27<=PARTIDA!$D$16,"SI","NO") -> SI | X27: =IF(N27<10%, "CONFORMIDAD", "NO CONFORMIDAD") -> #N/A | Y27: =IF(N27<15%, "CONFORMIDAD", "NO CONFORMIDAD") -> #N/A | Z27: =IF(N27<20%, "CONFORMIDAD", "NO CONFORMIDAD") -> #N/A | AE27: =COUNT(N27:N32) -> 0 | AG27: =VLOOKUP(AE27,Tabla2[],2,FALSE) -> #N/A | AH27: =IF(AF27>=AG27,"CONFORMIDAD","NO CONFORMIDAD") -> #N/A | AJ27: =+B32+(AI27*30) -> 45536 | AK27: =IF(U27<10%, "CONFORMIDAD", "NO CONFORMIDAD") -> #N/A | AL27: =IF(U27<15%, "CONFORMIDAD", "NO CONFORMIDAD") -> #N/A | AM27: =IF(U27<20%, "CONFORMIDAD", "NO CONFORMIDAD") -> #N/A | AR27: =COUNT(N27:N32) -> 0 | AT27: =VLOOKUP(AR27,Tabla2[],2,FALSE) -> #N/A | AU27: =IF(AS27>=AT27,"CONFORMIDAD","NO CONFORMIDAD") -> #N/A | AW27: =+B32+(AV27*30) -> 45536 | BL27: 0.1
G28: =+(F28-E28)*1440 -> 0 | H28: =VLOOKUP(D28,Tabla1[],2,FALSE) -> #N/A | I28: =+H28*G28 -> #N/A | K28: =+J28/1000 -> 0 | L28: =+K28/(I28/1000) -> #N/A | M28: =+L28*480/G28 -> #N/A | N28: =+(M28/3) -> #N/A | O28: =IF(J28<=PARTIDA!$D$7,"SI","NO") -> SI | Q28: =+P28/1000 -> 0 | R28: =+Q28/K28 -> #DIV/0! | S28: =+Q28/(I28/1000) -> #N/A | T28: =+S28*480/G28 -> #N/A | U28: =+(T28/0.05) -> #N/A | V28: =IF(P28<=PARTIDA!$D$16,"SI","NO") -> SI | X28: =IF(N28<10%, "CONFORMIDAD", "NO CONFORMIDAD") -> #N/A | Y28: =IF(N28<15%, "CONFORMIDAD", "NO CONFORMIDAD") -> #N/A | Z28: =IF(N28<20%, "CONFORMIDAD", "NO CONFORMIDAD") -> #N/A | AK28: =IF(U28<10%, "CONFORMIDAD", "NO CONFORMIDAD") -> #N/A | AL28: =IF(U28<15%, "CONFORMIDAD", "NO CONFORMIDAD") -> #N/A | AM28: =IF(U28<20%, "CONFORMIDAD", "NO CONFORMIDAD") -> #N/A | BL28: 0.1
G29: =+(F29-E29)*1440 -> 0 | H29: =VLOOKUP(D29,Tabla1[],2,FALSE) -> #N/A | I29: =+H29*G29 -> #N/A | K29: =+J29/1000 -> 0 | L29: =+K29/(I29/1000) -> #N/A | M29: =+L29*480/G29 -> #N/A | N29: =+(M29/3) -> #N/A | O29: =IF(J29<=PARTIDA!$D$7,"SI","NO") -> SI | Q29: =+P29/1000 -> 0 | R29: =+Q29/K29 -> #DIV/0! | S29: =+Q29/(I29/1000) -> #N/A | T29: =+S29*480/G29 -> #N/A | U29: =+(T29/0.05) -> #N/A | V29: =IF(P29<=PARTIDA!$D$16,"SI","NO") -> SI | X29: =IF(N29<10%, "CONFORMIDAD", "NO CONFORMIDAD") -> #N/A | Y29: =IF(N29<15%, "CONFORMIDAD", "NO CONFORMIDAD") -> #N/A | Z29: =IF(N29<20%, "CONFORMIDAD", "NO CONFORMIDAD") -> #N/A | AK29: =IF(U29<10%, "CONFORMIDAD", "NO CONFORMIDAD") -> #N/A | AL29: =IF(U29<15%, "CONFORMIDAD", "NO CONFORMIDAD") -> #N/A | AM29: =IF(U29<20%, "CONFORMIDAD", "NO CONFORMIDAD") -> #N/A | BL29: 0.1
G30: =+(F30-E30)*1440 -> 0 | H30: =VLOOKUP(D30,Tabla1[],2,FALSE) -> #N/A | I30: =+H30*G30 -> #N/A | K30: =+J30/1000 -> 0 | L30: =+K30/(I30/1000) -> #N/A | M30: =+L30*480/G30 -> #N/A | N30: =+(M30/3) -> #N/A | O30: =IF(J30<=PARTIDA!$D$7,"SI","NO") -> SI | Q30: =+P30/1000 -> 0 | R30: =+Q30/K30 -> #DIV/0! | S30: =+Q30/(I30/1000) -> #N/A | T30: =+S30*480/G30 -> #N/A | U30: =+(T30/0.05) -> #N/A | V30: =IF(P30<=PARTIDA!$D$16,"SI","NO") -> SI | X30: Si alguna de las anteriores es no conformidad y < del 15 %: "NO DECISIÓN" pasaremos a 4 mediciones | Y30: =IF(N30<15%, "CONFORMIDAD", "NO CONFORMIDAD") -> #N/A | Z30: =IF(N30<20%, "CONFORMIDAD", "NO CONFORMIDAD") -> #N/A | AK30: Si alguna de las anteriores es no conformidad y < del 15 %: "NO DECISIÓN" pasaremos a 4 mediciones | AL30: =IF(U30<15%, "CONFORMIDAD", "NO CONFORMIDAD") -> #N/A | AM30: =IF(U30<20%, "CONFORMIDAD", "NO CONFORMIDAD") -> #N/A | BL30: 0.1
B31: =+B27+121 -> 45413 | G31: =+(F31-E31)*1440 -> 0 | H31: =VLOOKUP(D31,Tabla1[],2,FALSE) -> #N/A | I31: =+H31*G31 -> #N/A | K31: =+J31/1000 -> 0 | L31: =+K31/(I31/1000) -> #N/A | M31: =+L31*480/G31 -> #N/A | N31: =+(M31/3) -> #N/A | O31: =IF(J31<=PARTIDA!$D$7,"SI","NO") -> SI | Q31: =+P31/1000 -> 0 | R31: =+Q31/K31 -> #DIV/0! | S31: =+Q31/(I31/1000) -> #N/A | T31: =+S31*480/G31 -> #N/A | U31: =+(T31/0.05) -> #N/A | V31: =IF(P31<=PARTIDA!$D$16,"SI","NO") -> SI | Y31: Si alguna de las anteriores es no conformidad y < del 20 %: "NO DECISIÓN" pasaremos a 4 mediciones | Z31: =IF(N31<20%, "CONFORMIDAD", "NO CONFORMIDAD") -> #N/A | AL31: Si alguna de las anteriores es no conformidad y < del 20 %: "NO DECISIÓN" pasaremos a 4 mediciones | AM31: =IF(U31<20%, "CONFORMIDAD", "NO CONFORMIDAD") -> #N/A | BL31: 0.1
B32: =+B31+123 -> 45536 | G32: =+(F32-E32)*1440 -> 0 | H32: =VLOOKUP(D32,Tabla1[],2,FALSE) -> #N/A | I32: =+H32*G32 -> #N/A | K32: =+J32/1000 -> 0 | L32: =+K32/(I32/1000) -> #N/A | M32: =+L32*480/G32 -> #N/A | N32: =+(M32/3) -> #N/A | O32: =IF(J32<=PARTIDA!$D$7,"SI","NO") -> SI | Q32: =+P32/1000 -> 0 | R32: =+Q32/K32 -> #DIV/0! | S32: =+Q32/(I32/1000) -> #N/A | T32: =+S32*480/G32 -> #N/A | U32: =+(T32/0.05) -> #N/A | V32: =IF(P32<=PARTIDA!$D$16,"SI","NO") -> SI | Z32: Si alguna de las pruebas superior al 20 %: "NO DECISIÓN" pasamos a prueba estadística | AM32: Si alguna de las pruebas superior al 20 %: "NO DECISIÓN" pasamos a prueba estadística | BL32: 0.1
BL33: 0.1
A34: Ayudante operario de clasificación | B34: 45292 | G34: =+(F34-E34)*1440 -> 0 | H34: =VLOOKUP(D34,Tabla1[],2,FALSE) -> #N/A | I34: =+H34*G34 -> #N/A | K34: =+J34/1000 -> 0 | L34: =+K34/(I34/1000) -> #N/A | M34: =+L34*480/G34 -> #N/A | N34: =+(M34/3) -> #N/A | O34: =IF(J34<=PARTIDA!$D$7,"SI","NO") -> SI | Q34: =+P34/1000 -> 0 | R34: =+Q34/K34 -> #DIV/0! | S34: =+Q34/(I34/1000) -> #N/A | T34: =+S34*480/G34 -> #N/A | U34: =+(T34/0.05) -> #N/A | V34: =IF(P34<=PARTIDA!$D$16,"SI","NO") -> SI | X34: =IF(N34<10%, "CONFORMIDAD", "NO CONFORMIDAD") -> #N/A | Y34: =IF(N34<15%, "CONFORMIDAD", "NO CONFORMIDAD") -> #N/A | Z34: =IF(N34<20%, "CONFORMIDAD", "NO CONFORMIDAD") -> #N/A | AE34: =COUNT(N34:N39) -> 0 | AG34: =VLOOKUP(AE34,Tabla2[],2,FALSE) -> #N/A | AH34: =IF(AF34>=AG34,"CONFORMIDAD","NO CONFORMIDAD") -> #N/A | AJ34: =+B39+(AI34*30) -> 45536 | AK34: =IF(U34<10%, "CONFORMIDAD", "NO CONFORMIDAD") -> #N/A | AL34: =IF(U34<15%, "CONFORMIDAD", "NO CONFORMIDAD") -> #N/A | AM34: =IF(U34<20%, "CONFORMIDAD", "NO CONFORMIDAD") -> #N/A | AR34: =COUNT(N34:N39) -> 0 | AT34: =VLOOKUP(AR34,Tabla2[],2,FALSE) -> #N/A | AU34: =IF(AS34>=AT34,"CONFORMIDAD","NO CONFORMIDAD") -> #N/A | AW34: =+B39+(AV34*30) -> 45536 | BL34: 0.1
G35: =+(F35-E35)*1440 -> 0 | H35: =VLOOKUP(D35,Tabla1[],2,FALSE) -> #N/A | I35: =+H35*G35 -> #N/A | K35: =+J35/1000 -> 0 | L35: =+K35/(I35/1000) -> #N/A | M35: =+L35*480/G35 -> #N/A | N35: =+(M35/3) -> #N/A | O35: =IF(J35<=PARTIDA!$D$7,"SI","NO") -> SI | Q35: =+P35/1000 -> 0 | R35: =+Q35/K35 -> #DIV/0! | S35: =+Q35/(I35/1000) -> #N/A | T35: =+S35*480/G35 -> #N/A | U35: =+(T35/0.05) -> #N/A | V35: =IF(P35<=PARTIDA!$D$16,"SI","NO") -> SI | X35: =IF(N35<10%, "CONFORMIDAD", "NO CONFORMIDAD") -> #N/A | Y35: =IF(N35<15%, "CONFORMIDAD", "NO CONFORMIDAD") -> #N/A | Z35: =IF(N35<20%, "CONFORMIDAD", "NO CONFORMIDAD") -> #N/A | AK35: =IF(U35<10%, "CONFORMIDAD", "NO CONFORMIDAD") -> #N/A | AL35: =IF(U35<15%, "CONFORMIDAD", "NO CONFORMIDAD") -> #N/A | AM35: =IF(U35<20%, "CONFORMIDAD", "NO CONFORMIDAD") -> #N/A | BL35: 0.1
G36: =+(F36-E36)*1440 -> 0 | H36: =VLOOKUP(D36,Tabla1[],2,FALSE) -> #N/A | I36: =+H36*G36 -> #N/A | K36: =+J36/1000 -> 0 | L36: =+K36/(I36/1000) -> #N/A | M36: =+L36*480/G36 -> #N/A | N36: =+(M36/3) -> #N/A | O36: =IF(J36<=PARTIDA!$D$7,"SI","NO") -> SI | Q36: =+P36/1000 -> 0 | R36: =+Q36/K36 -> #DIV/0! | S36: =+Q36/(I36/1000) -> #N/A | T36: =+S36*480/G36 -> #N/A | U36: =+(T36/0.05) -> #N/A | V36: =IF(P36<=PARTIDA!$D$16,"SI","NO") -> SI | X36: =IF(N36<10%, "CONFORMIDAD", "NO CONFORMIDAD") -> #N/A | Y36: =IF(N36<15%, "CONFORMIDAD", "NO CONFORMIDAD") -> #N/A | Z36: =IF(N36<20%, "CONFORMIDAD", "NO CONFORMIDAD") -> #N/A | AK36: =IF(U36<10%, "CONFORMIDAD", "NO CONFORMIDAD") -> #N/A | AL36: =IF(U36<15%, "CONFORMIDAD", "NO CONFORMIDAD") -> #N/A | AM36: =IF(U36<20%, "CONFORMIDAD", "NO CONFORMIDAD") -> #N/A | BL36: 0.1
G37: =+(F37-E37)*1440 -> 0 | H37: =VLOOKUP(D37,Tabla1[],2,FALSE) -> #N/A | I37: =+H37*G37 -> #N/A | K37: =+J37/1000 -> 0 | L37: =+K37/(I37/1000) -> #N/A | M37: =+L37*480/G37 -> #N/A | N37: =+(M37/3) -> #N/A | O37: =IF(J37<=PARTIDA!$D$7,"SI","NO") -> SI | Q37: =+P37/1000 -> 0 | R37: =+Q37/K37 -> #DIV/0! | S37: =+Q37/(I37/1000) -> #N/A | T37: =+S37*480/G37 -> #N/A | U37: =+(T37/0.05) -> #N/A | V37: =IF(P37<=PARTIDA!$D$16,"SI","NO") -> SI | X37: Si alguna de las anteriores es no conformidad y < del 15 %: "NO DECISIÓN" pasaremos a 4 mediciones | Y37: =IF(N37<15%, "CONFORMIDAD", "NO CONFORMIDAD") -> #N/A | Z37: =IF(N37<20%, "CONFORMIDAD", "NO CONFORMIDAD") -> #N/A | AK37: Si alguna de las anteriores es no conformidad y < del 15 %: "NO DECISIÓN" pasaremos a 4 mediciones | AL37: =IF(U37<15%, "CONFORMIDAD", "NO CONFORMIDAD") -> #N/A | AM37: =IF(U37<20%, "CONFORMIDAD", "NO CONFORMIDAD") -> #N/A | BL37: 0.1
B38: =+B34+121 -> 45413 | G38: =+(F38-E38)*1440 -> 0 | H38: =VLOOKUP(D38,Tabla1[],2,FALSE) -> #N/A | I38: =+H38*G38 -> #N/A | K38: =+J38/1000 -> 0 | L38: =+K38/(I38/1000) -> #N/A | M38: =+L38*480/G38 -> #N/A | N38: =+(M38/3) -> #N/A | O38: =IF(J38<=PARTIDA!$D$7,"SI","NO") -> SI | Q38: =+P38/1000 -> 0 | R38: =+Q38/K38 -> #DIV/0! | S38: =+Q38/(I38/1000) -> #N/A | T38: =+S38*480/G38 -> #N/A | U38: =+(T38/0.05) -> #N/A | V38: =IF(P38<=PARTIDA!$D$16,"SI","NO") -> SI | Y38: Si alguna de las anteriores es no conformidad y < del 20 %: "NO DECISIÓN" pasaremos a 4 mediciones | Z38: =IF(N38<20%, "CONFORMIDAD", "NO CONFORMIDAD") -> #N/A | AL38: Si alguna de las anteriores es no conformidad y < del 20 %: "NO DECISIÓN" pasaremos a 4 mediciones | AM38: =IF(U38<20%, "CONFORMIDAD", "NO CONFORMIDAD") -> #N/A | BL38: 0.1
B39: =+B38+123 -> 45536 | G39: =+(F39-E39)*1440 -> 0 | H39: =VLOOKUP(D39,Tabla1[],2,FALSE) -> #N/A | I39: =+H39*G39 -> #N/A | K39: =+J39/1000 -> 0 | L39: =+K39/(I39/1000) -> #N/A | M39: =+L39*480/G39 -> #N/A | N39: =+(M39/3) -> #N/A | O39: =IF(J39<=PARTIDA!$D$7,"SI","NO") -> SI | Q39: =+P39/1000 -> 0 | R39: =+Q39/K39 -> #DIV/0! | S39: =+Q39/(I39/1000) -> #N/A | T39: =+S39*480/G39 -> #N/A | U39: =+(T39/0.05) -> #N/A | V39: =IF(P39<=PARTIDA!$D$16,"SI","NO") -> SI | Z39: Si alguna de las pruebas superior al 20 %: "NO DECISIÓN" pasamos a prueba estadística | AM39: Si alguna de las pruebas superior al 20 %: "NO DECISIÓN" pasamos a prueba estadística | BL39: 0.1
BL40: 0.1
A41: Operario zona ensacado | B41: 45292 | G41: =+(F41-E41)*1440 -> 0 | H41: =VLOOKUP(D41,Tabla1[],2,FALSE) -> #N/A | I41: =+H41*G41 -> #N/A | K41: =+J41/1000 -> 0 | L41: =+K41/(I41/1000) -> #N/A | M41: =+L41*480/G41 -> #N/A | N41: =+(M41/3) -> #N/A | O41: =IF(J41<=PARTIDA!$D$7,"SI","NO") -> SI | Q41: =+P41/1000 -> 0 | R41: =+Q41/K41 -> #DIV/0! | S41: =+Q41/(I41/1000) -> #N/A | T41: =+S41*480/G41 -> #N/A | U41: =+(T41/0.05) -> #N/A | V41: =IF(P41<=PARTIDA!$D$16,"SI","NO") -> SI | X41: =IF(N41<10%, "CONFORMIDAD", "NO CONFORMIDAD") -> #N/A | Y41: =IF(N41<15%, "CONFORMIDAD", "NO CONFORMIDAD") -> #N/A | Z41: =IF(N41<20%, "CONFORMIDAD", "NO CONFORMIDAD") -> #N/A | AE41: =COUNT(N41:N46) -> 0 | AG41: =VLOOKUP(AE41,Tabla2[],2,FALSE) -> #N/A | AH41: =IF(AF41>=AG41,"CONFORMIDAD","NO CONFORMIDAD") -> #N/A | AJ41: =+B46+(AI41*30) -> 45536 | AK41: =IF(U41<10%, "CONFORMIDAD", "NO CONFORMIDAD") -> #N/A | AL41: =IF(U41<15%, "CONFORMIDAD", "NO CONFORMIDAD") -> #N/A | AM41: =IF(U41<20%, "CONFORMIDAD", "NO CONFORMIDAD") -> #N/A | AR41: =COUNT(N41:N46) -> 0 | AT41: =VLOOKUP(AR41,Tabla2[],2,FALSE) -> #N/A | AU41: =IF(AS41>=AT41,"CONFORMIDAD","NO CONFORMIDAD") -> #N/A | AW41: =+B46+(AV41*30) -> 45536 | BL41: 0.1
G42: =+(F42-E42)*1440 -> 0 | H42: =VLOOKUP(D42,Tabla1[],2,FALSE) -> #N/A | I42: =+H42*G42 -> #N/A | K42: =+J42/1000 -> 0 | L42: =+K42/(I42/1000) -> #N/A | M42: =+L42*480/G42 -> #N/A | N42: =+(M42/3) -> #N/A | O42: =IF(J42<=PARTIDA!$D$7,"SI","NO") -> SI | Q42: =+P42/1000 -> 0 | R42: =+Q42/K42 -> #DIV/0! | S42: =+Q42/(I42/1000) -> #N/A | T42: =+S42*480/G42 -> #N/A | U42: =+(T42/0.05) -> #N/A | V42: =IF(P42<=PARTIDA!$D$16,"SI","NO") -> SI | X42: =IF(N42<10%, "CONFORMIDAD", "NO CONFORMIDAD") -> #N/A | Y42: =IF(N42<15%, "CONFORMIDAD", "NO CONFORMIDAD") -> #N/A | Z42: =IF(N42<20%, "CONFORMIDAD", "NO CONFORMIDAD") -> #N/A | AK42: =IF(U42<10%, "CONFORMIDAD", "NO CONFORMIDAD") -> #N/A | AL42: =IF(U42<15%, "CONFORMIDAD", "NO CONFORMIDAD") -> #N/A | AM42: =IF(U42<20%, "CONFORMIDAD", "NO CONFORMIDAD") -> #N/A | BL42: 0.1
G43: =+(F43-E43)*1440 -> 0 | H43: =VLOOKUP(D43,Tabla1[],2,FALSE) -> #N/A | I43: =+H43*G43 -> #N/A | K43: =+J43/1000 -> 0 | L43: =+K43/(I43/1000) -> #N/A | M43: =+L43*480/G43 -> #N/A | N43: =+(M43/3) -> #N/A | O43: =IF(J43<=PARTIDA!$D$7,"SI","NO") -> SI | Q43: =+P43/1000 -> 0 | R43: =+Q43/K43 -> #DIV/0! | S43: =+Q43/(I43/1000) -> #N/A | T43: =+S43*480/G43 -> #N/A | U43: =+(T43/0.05) -> #N/A | V43: =IF(P43<=PARTIDA!$D$16,"SI","NO") -> SI | X43: =IF(N43<10%, "CONFORMIDAD", "NO CONFORMIDAD") -> #N/A | Y43: =IF(N43<15%, "CONFORMIDAD", "NO CONFORMIDAD") -> #N/A | Z43: =IF(N43<20%, "CONFORMIDAD", "NO CONFORMIDAD") -> #N/A | AK43: =IF(U43<10%, "CONFORMIDAD", "NO CONFORMIDAD") -> #N/A | AL43: =IF(U43<15%, "CONFORMIDAD", "NO CONFORMIDAD") -> #N/A | AM43: =IF(U43<20%, "CONFORMIDAD", "NO CONFORMIDAD") -> #N/A | BL43: 0.1
G44: =+(F44-E44)*1440 -> 0 | H44: =VLOOKUP(D44,Tabla1[],2,FALSE) -> #N/A | I44: =+H44*G44 -> #N/A | K44: =+J44/1000 -> 0 | L44: =+K44/(I44/1000) -> #N/A | M44: =+L44*480/G44 -> #N/A | N44: =+(M44/3) -> #N/A | O44: =IF(J44<=PARTIDA!$D$7,"SI","NO") -> SI | Q44: =+P44/1000 -> 0 | R44: =+Q44/K44 -> #DIV/0! | S44: =+Q44/(I44/1000) -> #N/A | T44: =+S44*480/G44 -> #N/A | U44: =+(T44/0.05) -> #N/A | V44: =IF(P44<=PARTIDA!$D$16,"SI","NO") -> SI | X44: Si alguna de las anteriores es no conformidad y < del 15 %: "NO DECISIÓN" pasaremos a 4 mediciones | Y44: =IF(N44<15%, "CONFORMIDAD", "NO CONFORMIDAD") -> #N/A | Z44: =IF(N44<20%, "CONFORMIDAD", "NO CONFORMIDAD") -> #N/A | AK44: Si alguna de las anteriores es no conformidad y < del 15 %: "NO DECISIÓN" pasaremos a 4 mediciones | AL44: =IF(U44<15%, "CONFORMIDAD", "NO CONFORMIDAD") -> #N/A | AM44: =IF(U44<20%, "CONFORMIDAD", "NO CONFORMIDAD") -> #N/A | BL44: 0.1
B45: =+B41+121 -> 45413 | G45: =+(F45-E45)*1440 -> 0 | H45: =VLOOKUP(D45,Tabla1[],2,FALSE) -> #N/A | I45: =+H45*G45 -> #N/A | K45: =+J45/1000 -> 0 | L45: =+K45/(I45/1000) -> #N/A | M45: =+L45*480/G45 -> #N/A | N45: =+(M45/3) -> #N/A | O45: =IF(J45<=PARTIDA!$D$7,"SI","NO") -> SI | Q45: =+P45/1000 -> 0 | R45: =+Q45/K45 -> #DIV/0! | S45: =+Q45/(I45/1000) -> #N/A | T45: =+S45*480/G45 -> #N/A | U45: =+(T45/0.05) -> #N/A | V45: =IF(P45<=PARTIDA!$D$16,"SI","NO") -> SI | Y45: Si alguna de las anteriores es no conformidad y < del 20 %: "NO DECISIÓN" pasaremos a 4 mediciones | Z45: =IF(N45<20%, "CONFORMIDAD", "NO CONFORMIDAD") -> #N/A | AL45: Si alguna de las anteriores es no conformidad y < del 20 %: "NO DECISIÓN" pasaremos a 4 mediciones | AM45: =IF(U45<20%, "CONFORMIDAD", "NO CONFORMIDAD") -> #N/A | BL45: 0.1
B46: =+B45+123 -> 45536 | G46: =+(F46-E46)*1440 -> 0 | H46: =VLOOKUP(D46,Tabla1[],2,FALSE) -> #N/A | I46: =+H46*G46 -> #N/A | K46: =+J46/1000 -> 0 | L46: =+K46/(I46/1000) -> #N/A | M46: =+L46*480/G46 -> #N/A | N46: =+(M46/3) -> #N/A | O46: =IF(J46<=PARTIDA!$D$7,"SI","NO") -> SI | Q46: =+P46/1000 -> 0 | R46: =+Q46/K46 -> #DIV/0! | S46: =+Q46/(I46/1000) -> #N/A | T46: =+S46*480/G46 -> #N/A | U46: =+(T46/0.05) -> #N/A | V46: =IF(P46<=PARTIDA!$D$16,"SI","NO") -> SI | Z46: Si alguna de las pruebas superior al 20 %: "NO DECISIÓN" pasamos a prueba estadística | AM46: Si alguna de las pruebas superior al 20 %: "NO DECISIÓN" pasamos a prueba estadística | BL46: 0.1
BL47: 0.1
A48: Carretillero | B48: 45292 | G48: =+(F48-E48)*1440 -> 0 | H48: =VLOOKUP(D48,Tabla1[],2,FALSE) -> #N/A | I48: =+H48*G48 -> #N/A | K48: =+J48/1000 -> 0 | L48: =+K48/(I48/1000) -> #N/A | M48: =+L48*480/G48 -> #N/A | N48: =+(M48/3) -> #N/A | O48: =IF(J48<=PARTIDA!$D$7,"SI","NO") -> SI | Q48: =+P48/1000 -> 0 | R48: =+Q48/K48 -> #DIV/0! | S48: =+Q48/(I48/1000) -> #N/A | T48: =+S48*480/G48 -> #N/A | U48: =+(T48/0.05) -> #N/A | V48: =IF(P48<=PARTIDA!$D$16,"SI","NO") -> SI | X48: =IF(N48<10%, "CONFORMIDAD", "NO CONFORMIDAD") -> #N/A | Y48: =IF(N48<15%, "CONFORMIDAD", "NO CONFORMIDAD") -> #N/A | Z48: =IF(N48<20%, "CONFORMIDAD", "NO CONFORMIDAD") -> #N/A | AE48: =COUNT(N48:N53) -> 0 | AG48: =VLOOKUP(AE48,Tabla2[],2,FALSE) -> #N/A | AH48: =IF(AF48>=AG48,"CONFORMIDAD","NO CONFORMIDAD") -> #N/A | AJ48: =+B53+(AI48*30) -> 45536 | AK48: =IF(U48<10%, "CONFORMIDAD", "NO CONFORMIDAD") -> #N/A | AL48: =IF(U48<15%, "CONFORMIDAD", "NO CONFORMIDAD") -> #N/A | AM48: =IF(U48<20%, "CONFORMIDAD", "NO CONFORMIDAD") -> #N/A | AR48: =COUNT(N48:N53) -> 0 | AT48: =VLOOKUP(AR48,Tabla2[],2,FALSE) -> #N/A | AU48: =IF(AS48>=AT48,"CONFORMIDAD","NO CONFORMIDAD") -> #N/A | AW48: =+B53+(AV48*30) -> 45536 | BL48: 0.1
G49: =+(F49-E49)*1440 -> 0 | H49: =VLOOKUP(D49,Tabla1[],2,FALSE) -> #N/A | I49: =+H49*G49 -> #N/A | K49: =+J49/1000 -> 0 | L49: =+K49/(I49/1000) -> #N/A | M49: =+L49*480/G49 -> #N/A | N49: =+(M49/3) -> #N/A | O49: =IF(J49<=PARTIDA!$D$7,"SI","NO") -> SI | Q49: =+P49/1000 -> 0 | R49: =+Q49/K49 -> #DIV/0! | S49: =+Q49/(I49/1000) -> #N/A | T49: =+S49*480/G49 -> #N/A | U49: =+(T49/0.05) -> #N/A | V49: =IF(P49<=PARTIDA!$D$16,"SI","NO") -> SI | X49: =IF(N49<10%, "CONFORMIDAD", "NO CONFORMIDAD") -> #N/A | Y49: =IF(N49<15%, "CONFORMIDAD", "NO CONFORMIDAD") -> #N/A | Z49: =IF(N49<20%, "CONFORMIDAD", "NO CONFORMIDAD") -> #N/A | AK49: =IF(U49<10%, "CONFORMIDAD", "NO CONFORMIDAD") -> #N/A | AL49: =IF(U49<15%, "CONFORMIDAD", "NO CONFORMIDAD") -> #N/A | AM49: =IF(U49<20%, "CONFORMIDAD", "NO CONFORMIDAD") -> #N/A | BL49: 0.1
G50: =+(F50-E50)*1440 -> 0 | H50: =VLOOKUP(D50,Tabla1[],2,FALSE) -> #N/A | I50: =+H50*G50 -> #N/A | K50: =+J50/1000 -> 0 | L50: =+K50/(I50/1000) -> #N/A | M50: =+L50*480/G50 -> #N/A | N50: =+(M50/3) -> #N/A | O50: =IF(J50<=PARTIDA!$D$7,"SI","NO") -> SI | Q50: =+P50/1000 -> 0 | R50: =+Q50/K50 -> #DIV/0! | S50: =+Q50/(I50/1000) -> #N/A | T50: =+S50*480/G50 -> #N/A | U50: =+(T50/0.05) -> #N/A | V50: =IF(P50<=PARTIDA!$D$16,"SI","NO") -> SI | X50: =IF(N50<10%, "CONFORMIDAD", "NO CONFORMIDAD") -> #N/A | Y50: =IF(N50<15%, "CONFORMIDAD", "NO CONFORMIDAD") -> #N/A | Z50: =IF(N50<20%, "CONFORMIDAD", "NO CONFORMIDAD") -> #N/A | AK50: =IF(U50<10%, "CONFORMIDAD", "NO CONFORMIDAD") -> #N/A | AL50: =IF(U50<15%, "CONFORMIDAD", "NO CONFORMIDAD") -> #N/A | AM50: =IF(U50<20%, "CONFORMIDAD", "NO CONFORMIDAD") -> #N/A | BL50: 0.1
G51: =+(F51-E51)*1440 -> 0 | H51: =VLOOKUP(D51,Tabla1[],2,FALSE) -> #N/A | I51: =+H51*G51 -> #N/A | K51: =+J51/1000 -> 0 | L51: =+K51/(I51/1000) -> #N/A | M51: =+L51*480/G51 -> #N/A | N51: =+(M51/3) -> #N/A | O51: =IF(J51<=PARTIDA!$D$7,"SI","NO") -> SI | Q51: =+P51/1000 -> 0 | R51: =+Q51/K51 -> #DIV/0! | S51: =+Q51/(I51/1000) -> #N/A | T51: =+S51*480/G51 -> #N/A | U51: =+(T51/0.05) -> #N/A | V51: =IF(P51<=PARTIDA!$D$16,"SI","NO") -> SI | X51: Si alguna de las anteriores es no conformidad y < del 15 %: "NO DECISIÓN" pasaremos a 4 mediciones | Y51: =IF(N51<15%, "CONFORMIDAD", "NO CONFORMIDAD") -> #N/A | Z51: =IF(N51<20%, "CONFORMIDAD", "NO CONFORMIDAD") -> #N/A | AK51: Si alguna de las anteriores es no conformidad y < del 15 %: "NO DECISIÓN" pasaremos a 4 mediciones | AL51: =IF(U51<15%, "CONFORMIDAD", "NO CONFORMIDAD") -> #N/A | AM51: =IF(U51<20%, "CONFORMIDAD", "NO CONFORMIDAD") -> #N/A | BL51: 0.1
B52: =+B48+121 -> 45413 | G52: =+(F52-E52)*1440 -> 0 | H52: =VLOOKUP(D52,Tabla1[],2,FALSE) -> #N/A | I52: =+H52*G52 -> #N/A | K52: =+J52/1000 -> 0 | L52: =+K52/(I52/1000) -> #N/A | M52: =+L52*480/G52 -> #N/A | N52: =+(M52/3) -> #N/A | O52: =IF(J52<=PARTIDA!$D$7,"SI","NO") -> SI | Q52: =+P52/1000 -> 0 | R52: =+Q52/K52 -> #DIV/0! | S52: =+Q52/(I52/1000) -> #N/A | T52: =+S52*480/G52 -> #N/A | U52: =+(T52/0.05) -> #N/A | V52: =IF(P52<=PARTIDA!$D$16,"SI","NO") -> SI | Y52: Si alguna de las anteriores es no conformidad y < del 20 %: "NO DECISIÓN" pasaremos a 4 mediciones | Z52: =IF(N52<20%, "CONFORMIDAD", "NO CONFORMIDAD") -> #N/A | AL52: Si alguna de las anteriores es no conformidad y < del 20 %: "NO DECISIÓN" pasaremos a 4 mediciones | AM52: =IF(U52<20%, "CONFORMIDAD", "NO CONFORMIDAD") -> #N/A | BL52: 0.1
B53: =+B52+123 -> 45536 | G53: =+(F53-E53)*1440 -> 0 | H53: =VLOOKUP(D53,Tabla1[],2,FALSE) -> #N/A | I53: =+H53*G53 -> #N/A | K53: =+J53/1000 -> 0 | L53: =+K53/(I53/1000) -> #N/A | M53: =+L53*480/G53 -> #N/A | N53: =+(M53/3) -> #N/A | O53: =IF(J53<=PARTIDA!$D$7,"SI","NO") -> SI | Q53: =+P53/1000 -> 0 | R53: =+Q53/K53 -> #DIV/0! | S53: =+Q53/(I53/1000) -> #N/A | T53: =+S53*480/G53 -> #N/A | U53: =+(T53/0.05) -> #N/A | V53: =IF(P53<=PARTIDA!$D$16,"SI","NO") -> SI | Z53: Si alguna de las pruebas superior al 20 %: "NO DECISIÓN" pasamos a prueba estadística | AM53: Si alguna de las pruebas superior al 20 %: "NO DECISIÓN" pasamos a prueba estadística | BL53: 0.1
BL54: 0.1
A55: Operario de mantenimiento | B55: 45292 | G55: =+(F55-E55)*1440 -> 0 | H55: =VLOOKUP(D55,Tabla1[],2,FALSE) -> #N/A | I55: =+H55*G55 -> #N/A | K55: =+J55/1000 -> 0 | L55: =+K55/(I55/1000) -> #N/A | M55: =+L55*480/G55 -> #N/A | N55: =+(M55/3) -> #N/A | O55: =IF(J55<=PARTIDA!$D$7,"SI","NO") -> SI | Q55: =+P55/1000 -> 0 | R55: =+Q55/K55 -> #DIV/0! | S55: =+Q55/(I55/1000) -> #N/A | T55: =+S55*480/G55 -> #N/A | U55: =+(T55/0.05) -> #N/A | V55: =IF(P55<=PARTIDA!$D$16,"SI","NO") -> SI | X55: =IF(N55<10%, "CONFORMIDAD", "NO CONFORMIDAD") -> #N/A | Y55: =IF(N55<15%, "CONFORMIDAD", "NO CONFORMIDAD") -> #N/A | Z55: =IF(N55<20%, "CONFORMIDAD", "NO CONFORMIDAD") -> #N/A | AE55: =COUNT(N55:N60) -> 0 | AG55: =VLOOKUP(AE55,Tabla2[],2,FALSE) -> #N/A | AH55: =IF(AF55>=AG55,"CONFORMIDAD","NO CONFORMIDAD") -> #N/A | AJ55: =+B60+(AI55*30) -> 45536 | AK55: =IF(U55<10%, "CONFORMIDAD", "NO CONFORMIDAD") -> #N/A | AL55: =IF(U55<15%, "CONFORMIDAD", "NO CONFORMIDAD") -> #N/A | AM55: =IF(U55<20%, "CONFORMIDAD", "NO CONFORMIDAD") -> #N/A | AR55: =COUNT(N55:N60) -> 0 | AT55: =VLOOKUP(AR55,Tabla2[],2,FALSE) -> #N/A | AU55: =IF(AS55>=AT55,"CONFORMIDAD","NO CONFORMIDAD") -> #N/A | AW55: =+B60+(AV55*30) -> 45536 | BL55: 0.1
G56: =+(F56-E56)*1440 -> 0 | H56: =VLOOKUP(D56,Tabla1[],2,FALSE) -> #N/A | I56: =+H56*G56 -> #N/A | K56: =+J56/1000 -> 0 | L56: =+K56/(I56/1000) -> #N/A | M56: =+L56*480/G56 -> #N/A | N56: =+(M56/3) -> #N/A | O56: =IF(J56<=PARTIDA!$D$7,"SI","NO") -> SI | Q56: =+P56/1000 -> 0 | R56: =+Q56/K56 -> #DIV/0! | S56: =+Q56/(I56/1000) -> #N/A | T56: =+S56*480/G56 -> #N/A | U56: =+(T56/0.05) -> #N/A | V56: =IF(P56<=PARTIDA!$D$16,"SI","NO") -> SI | X56: =IF(N56<10%, "CONFORMIDAD", "NO CONFORMIDAD") -> #N/A | Y56: =IF(N56<15%, "CONFORMIDAD", "NO CONFORMIDAD") -> #N/A | Z56: =IF(N56<20%, "CONFORMIDAD", "NO CONFORMIDAD") -> #N/A | AK56: =IF(U56<10%, "CONFORMIDAD", "NO CONFORMIDAD") -> #N/A | AL56: =IF(U56<15%, "CONFORMIDAD", "NO CONFORMIDAD") -> #N/A | AM56: =IF(U56<20%, "CONFORMIDAD", "NO CONFORMIDAD") -> #N/A | BL56: 0.1
G57: =+(F57-E57)*1440 -> 0 | H57: =VLOOKUP(D57,Tabla1[],2,FALSE) -> #N/A | I57: =+H57*G57 -> #N/A | K57: =+J57/1000 -> 0 | L57: =+K57/(I57/1000) -> #N/A | M57: =+L57*480/G57 -> #N/A | N57: =+(M57/3) -> #N/A | O57: =IF(J57<=PARTIDA!$D$7,"SI","NO") -> SI | Q57: =+P57/1000 -> 0 | R57: =+Q57/K57 -> #DIV/0! | S57: =+Q57/(I57/1000) -> #N/A | T57: =+S57*480/G57 -> #N/A | U57: =+(T57/0.05) -> #N/A | V57: =IF(P57<=PARTIDA!$D$16,"SI","NO") -> SI | X57: =IF(N57<10%, "CONFORMIDAD", "NO CONFORMIDAD") -> #N/A | Y57: =IF(N57<15%, "CONFORMIDAD", "NO CONFORMIDAD") -> #N/A | Z57: =IF(N57<20%, "CONFORMIDAD", "NO CONFORMIDAD") -> #N/A | AK57: =IF(U57<10%, "CONFORMIDAD", "NO CONFORMIDAD") -> #N/A | AL57: =IF(U57<15%, "CONFORMIDAD", "NO CONFORMIDAD") -> #N/A | AM57: =IF(U57<20%, "CONFORMIDAD", "NO CONFORMIDAD") -> #N/A | BL57: 0.1
G58: =+(F58-E58)*1440 -> 0 | H58: =VLOOKUP(D58,Tabla1[],2,FALSE) -> #N/A | I58: =+H58*G58 -> #N/A | K58: =+J58/1000 -> 0 | L58: =+K58/(I58/1000) -> #N/A | M58: =+L58*480/G58 -> #N/A | N58: =+(M58/3) -> #N/A | O58: =IF(J58<=PARTIDA!$D$7,"SI","NO") -> SI | Q58: =+P58/1000 -> 0 | R58: =+Q58/K58 -> #DIV/0! | S58: =+Q58/(I58/1000) -> #N/A | T58: =+S58*480/G58 -> #N/A | U58: =+(T58/0.05) -> #N/A | V58: =IF(P58<=PARTIDA!$D$16,"SI","NO") -> SI | X58: Si alguna de las anteriores es no conformidad y < del 15 %: "NO DECISIÓN" pasaremos a 4 mediciones | Y58: =IF(N58<15%, "CONFORMIDAD", "NO CONFORMIDAD") -> #N/A | Z58: =IF(N58<20%, "CONFORMIDAD", "NO CONFORMIDAD") -> #N/A | AK58: Si alguna de las anteriores es no conformidad y < del 15 %: "NO DECISIÓN" pasaremos a 4 mediciones | AL58: =IF(U58<15%, "CONFORMIDAD", "NO CONFORMIDAD") -> #N/A | AM58: =IF(U58<20%, "CONFORMIDAD", "NO CONFORMIDAD") -> #N/A | BL58: 0.1
B59: =+B55+121 -> 45413 | G59: =+(F59-E59)*1440 -> 0 | H59: =VLOOKUP(D59,Tabla1[],2,FALSE) -> #N/A | I59: =+H59*G59 -> #N/A | K59: =+J59/1000 -> 0 | L59: =+K59/(I59/1000) -> #N/A | M59: =+L59*480/G59 -> #N/A | N59: =+(M59/3) -> #N/A | O59: =IF(J59<=PARTIDA!$D$7,"SI","NO") -> SI | Q59: =+P59/1000 -> 0 | R59: =+Q59/K59 -> #DIV/0! | S59: =+Q59/(I59/1000) -> #N/A | T59: =+S59*480/G59 -> #N/A | U59: =+(T59/0.05) -> #N/A | V59: =IF(P59<=PARTIDA!$D$16,"SI","NO") -> SI | Y59: Si alguna de las anteriores es no conformidad y < del 20 %: "NO DECISIÓN" pasaremos a 4 mediciones | Z59: =IF(N59<20%, "CONFORMIDAD", "NO CONFORMIDAD") -> #N/A | AL59: Si alguna de las anteriores es no conformidad y < del 20 %: "NO DECISIÓN" pasaremos a 4 mediciones | AM59: =IF(U59<20%, "CONFORMIDAD", "NO CONFORMIDAD") -> #N/A | BL59: 0.1
B60: =+B59+123 -> 45536 | G60: =+(F60-E60)*1440 -> 0 | H60: =VLOOKUP(D60,Tabla1[],2,FALSE) -> #N/A | I60: =+H60*G60 -> #N/A | K60: =+J60/1000 -> 0 | L60: =+K60/(I60/1000) -> #N/A | M60: =+L60*480/G60 -> #N/A | N60: =+(M60/3) -> #N/A | O60: =IF(J60<=PARTIDA!$D$7,"SI","NO") -> SI | Q60: =+P60/1000 -> 0 | R60: =+Q60/K60 -> #DIV/0! | S60: =+Q60/(I60/1000) -> #N/A | T60: =+S60*480/G60 -> #N/A | U60: =+(T60/0.05) -> #N/A | V60: =IF(P60<=PARTIDA!$D$16,"SI","NO") -> SI | Z60: Si alguna de las pruebas superior al 20 %: "NO DECISIÓN" pasamos a prueba estadística | AM60: Si alguna de las pruebas superior al 20 %: "NO DECISIÓN" pasamos a prueba estadística | BL60: 0.1
BL61: 0.1
A62: Operario de camión bañera | B62: 45292 | G62: =+(F62-E62)*1440 -> 0 | H62: =VLOOKUP(D62,Tabla1[],2,FALSE) -> #N/A | I62: =+H62*G62 -> #N/A | K62: =+J62/1000 -> 0 | L62: =+K62/(I62/1000) -> #N/A | M62: =+L62*480/G62 -> #N/A | N62: =+(M62/3) -> #N/A | O62: =IF(J62<=PARTIDA!$D$7,"SI","NO") -> SI | Q62: =+P62/1000 -> 0 | R62: =+Q62/K62 -> #DIV/0! | S62: =+Q62/(I62/1000) -> #N/A | T62: =+S62*480/G62 -> #N/A | U62: =+(T62/0.05) -> #N/A | V62: =IF(P62<=PARTIDA!$D$16,"SI","NO") -> SI | X62: =IF(N62<10%, "CONFORMIDAD", "NO CONFORMIDAD") -> #N/A | Y62: =IF(N62<15%, "CONFORMIDAD", "NO CONFORMIDAD") -> #N/A | Z62: =IF(N62<20%, "CONFORMIDAD", "NO CONFORMIDAD") -> #N/A | AE62: =COUNT(N62:N67) -> 0 | AG62: =VLOOKUP(AE62,Tabla2[],2,FALSE) -> #N/A | AH62: =IF(AF62>=AG62,"CONFORMIDAD","NO CONFORMIDAD") -> #N/A | AJ62: =+B67+(AI62*30) -> 45536 | AK62: =IF(U62<10%, "CONFORMIDAD", "NO CONFORMIDAD") -> #N/A | AL62: =IF(U62<15%, "CONFORMIDAD", "NO CONFORMIDAD") -> #N/A | AM62: =IF(U62<20%, "CONFORMIDAD", "NO CONFORMIDAD") -> #N/A | AR62: =COUNT(N62:N67) -> 0 | AT62: =VLOOKUP(AR62,Tabla2[],2,FALSE) -> #N/A | AU62: =IF(AS62>=AT62,"CONFORMIDAD","NO CONFORMIDAD") -> #N/A | AW62: =+B67+(AV62*30) -> 45536 | BL62: 0.1
G63: =+(F63-E63)*1440 -> 0 | H63: =VLOOKUP(D63,Tabla1[],2,FALSE) -> #N/A | I63: =+H63*G63 -> #N/A | K63: =+J63/1000 -> 0 | L63: =+K63/(I63/1000) -> #N/A | M63: =+L63*480/G63 -> #N/A | N63: =+(M63/3) -> #N/A | O63: =IF(J63<=PARTIDA!$D$7,"SI","NO") -> SI | Q63: =+P63/1000 -> 0 | R63: =+Q63/K63 -> #DIV/0! | S63: =+Q63/(I63/1000) -> #N/A | T63: =+S63*480/G63 -> #N/A | U63: =+(T63/0.05) -> #N/A | V63: =IF(P63<=PARTIDA!$D$16,"SI","NO") -> SI | X63: =IF(N63<10%, "CONFORMIDAD", "NO CONFORMIDAD") -> #N/A | Y63: =IF(N63<15%, "CONFORMIDAD", "NO CONFORMIDAD") -> #N/A | Z63: =IF(N63<20%, "CONFORMIDAD", "NO CONFORMIDAD") -> #N/A | AK63: =IF(U63<10%, "CONFORMIDAD", "NO CONFORMIDAD") -> #N/A | AL63: =IF(U63<15%, "CONFORMIDAD", "NO CONFORMIDAD") -> #N/A | AM63: =IF(U63<20%, "CONFORMIDAD", "NO CONFORMIDAD") -> #N/A | BL63: 0.1
G64: =+(F64-E64)*1440 -> 0 | H64: =VLOOKUP(D64,Tabla1[],2,FALSE) -> #N/A | I64: =+H64*G64 -> #N/A | K64: =+J64/1000 -> 0 | L64: =+K64/(I64/1000) -> #N/A | M64: =+L64*480/G64 -> #N/A | N64: =+(M64/3) -> #N/A | O64: =IF(J64<=PARTIDA!$D$7,"SI","NO") -> SI | Q64: =+P64/1000 -> 0 | R64: =+Q64/K64 -> #DIV/0! | S64: =+Q64/(I64/1000) -> #N/A | T64: =+S64*480/G64 -> #N/A | U64: =+(T64/0.05) -> #N/A | V64: =IF(P64<=PARTIDA!$D$16,"SI","NO") -> SI | X64: =IF(N64<10%, "CONFORMIDAD", "NO CONFORMIDAD") -> #N/A | Y64: =IF(N64<15%, "CONFORMIDAD", "NO CONFORMIDAD") -> #N/A | Z64: =IF(N64<20%, "CONFORMIDAD", "NO CONFORMIDAD") -> #N/A | AK64: =IF(U64<10%, "CONFORMIDAD", "NO CONFORMIDAD") -> #N/A | AL64: =IF(U64<15%, "CONFORMIDAD", "NO CONFORMIDAD") -> #N/A | AM64: =IF(U64<20%, "CONFORMIDAD", "NO CONFORMIDAD") -> #N/A | BL64: 0.1
G65: =+(F65-E65)*1440 -> 0 | H65: =VLOOKUP(D65,Tabla1[],2,FALSE) -> #N/A | I65: =+H65*G65 -> #N/A | K65: =+J65/1000 -> 0 | L65: =+K65/(I65/1000) -> #N/A | M65: =+L65*480/G65 -> #N/A | N65: =+(M65/3) -> #N/A | O65: =IF(J65<=PARTIDA!$D$7,"SI","NO") -> SI | Q65: =+P65/1000 -> 0 | R65: =+Q65/K65 -> #DIV/0! | S65: =+Q65/(I65/1000) -> #N/A | T65: =+S65*480/G65 -> #N/A | U65: =+(T65/0.05) -> #N/A | V65: =IF(P65<=PARTIDA!$D$16,"SI","NO") -> SI | X65: Si alguna de las anteriores es no conformidad y < del 15 %: "NO DECISIÓN" pasaremos a 4 mediciones | Y65: =IF(N65<15%, "CONFORMIDAD", "NO CONFORMIDAD") -> #N/A | Z65: =IF(N65<20%, "CONFORMIDAD", "NO CONFORMIDAD") -> #N/A | AK65: Si alguna de las anteriores es no conformidad y < del 15 %: "NO DECISIÓN" pasaremos a 4 mediciones | AL65: =IF(U65<15%, "CONFORMIDAD", "NO CONFORMIDAD") -> #N/A | AM65: =IF(U65<20%, "CONFORMIDAD", "NO CONFORMIDAD") -> #N/A | BL65: 0.1
B66: =+B62+121 -> 45413 | G66: =+(F66-E66)*1440 -> 0 | H66: =VLOOKUP(D66,Tabla1[],2,FALSE) -> #N/A | I66: =+H66*G66 -> #N/A | K66: =+J66/1000 -> 0 | L66: =+K66/(I66/1000) -> #N/A | M66: =+L66*480/G66 -> #N/A | N66: =+(M66/3) -> #N/A | O66: =IF(J66<=PARTIDA!$D$7,"SI","NO") -> SI | Q66: =+P66/1000 -> 0 | R66: =+Q66/K66 -> #DIV/0! | S66: =+Q66/(I66/1000) -> #N/A | T66: =+S66*480/G66 -> #N/A | U66: =+(T66/0.05) -> #N/A | V66: =IF(P66<=PARTIDA!$D$16,"SI","NO") -> SI | Y66: Si alguna de las anteriores es no conformidad y < del 20 %: "NO DECISIÓN" pasaremos a 4 mediciones | Z66: =IF(N66<20%, "CONFORMIDAD", "NO CONFORMIDAD") -> #N/A | AL66: Si alguna de las anteriores es no conformidad y < del 20 %: "NO DECISIÓN" pasaremos a 4 mediciones | AM66: =IF(U66<20%, "CONFORMIDAD", "NO CONFORMIDAD") -> #N/A | BL66: 0.1
B67: =+B66+123 -> 45536 | G67: =+(F67-E67)*1440 -> 0 | H67: =VLOOKUP(D67,Tabla1[],2,FALSE) -> #N/A | I67: =+H67*G67 -> #N/A | K67: =+J67/1000 -> 0 | L67: =+K67/(I67/1000) -> #N/A | M67: =+L67*480/G67 -> #N/A | N67: =+(M67/3) -> #N/A | O67: =IF(J67<=PARTIDA!$D$7,"SI","NO") -> SI | Q67: =+P67/1000 -> 0 | R67: =+Q67/K67 -> #DIV/0! | S67: =+Q67/(I67/1000) -> #N/A | T67: =+S67*480/G67 -> #N/A | U67: =+(T67/0.05) -> #N/A | V67: =IF(P67<=PARTIDA!$D$16,"SI","NO") -> SI | Z67: Si alguna de las pruebas superior al 20 %: "NO DECISIÓN" pasamos a prueba estadística | AM67: Si alguna de las pruebas superior al 20 %: "NO DECISIÓN" pasamos a prueba estadística | BL67: 0.1
BL68: 0.1
A69: Bascuslita | B69: 45292 | G69: =+(F69-E69)*1440 -> 0 | H69: =VLOOKUP(D69,Tabla1[],2,FALSE) -> #N/A | I69: =+H69*G69 -> #N/A | K69: =+J69/1000 -> 0 | L69: =+K69/(I69/1000) -> #N/A | M69: =+L69*480/G69 -> #N/A | N69: =+(M69/3) -> #N/A | O69: =IF(J69<=PARTIDA!$D$7,"SI","NO") -> SI | Q69: =+P69/1000 -> 0 | R69: =+Q69/K69 -> #DIV/0! | S69: =+Q69/(I69/1000) -> #N/A | T69: =+S69*480/G69 -> #N/A | U69: =+(T69/0.05) -> #N/A | V69: =IF(P69<=PARTIDA!$D$16,"SI","NO") -> SI | X69: =IF(N69<10%, "CONFORMIDAD", "NO CONFORMIDAD") -> #N/A | Y69: =IF(N69<15%, "CONFORMIDAD", "NO CONFORMIDAD") -> #N/A | Z69: =IF(N69<20%, "CONFORMIDAD", "NO CONFORMIDAD") -> #N/A | AE69: =COUNT(N69:N74) -> 0 | AG69: =VLOOKUP(AE69,Tabla2[],2,FALSE) -> #N/A | AH69: =IF(AF69>=AG69,"CONFORMIDAD","NO CONFORMIDAD") -> #N/A | AJ69: =+B74+(AI69*30) -> 45536 | AK69: =IF(U69<10%, "CONFORMIDAD", "NO CONFORMIDAD") -> #N/A | AL69: =IF(U69<15%, "CONFORMIDAD", "NO CONFORMIDAD") -> #N/A | AM69: =IF(U69<20%, "CONFORMIDAD", "NO CONFORMIDAD") -> #N/A | AR69: =COUNT(N69:N74) -> 0 | AT69: =VLOOKUP(AR69,Tabla2[],2,FALSE) -> #N/A | AU69: =IF(AS69>=AT69,"CONFORMIDAD","NO CONFORMIDAD") -> #N/A | AW69: =+B74+(AV69*30) -> 45536 | BL69: 0.1
G70: =+(F70-E70)*1440 -> 0 | H70: =VLOOKUP(D70,Tabla1[],2,FALSE) -> #N/A | I70: =+H70*G70 -> #N/A | K70: =+J70/1000 -> 0 | L70: =+K70/(I70/1000) -> #N/A | M70: =+L70*480/G70 -> #N/A | N70: =+(M70/3) -> #N/A | O70: =IF(J70<=PARTIDA!$D$7,"SI","NO") -> SI | Q70: =+P70/1000 -> 0 | R70: =+Q70/K70 -> #DIV/0! | S70: =+Q70/(I70/1000) -> #N/A | T70: =+S70*480/G70 -> #N/A | U70: =+(T70/0.05) -> #N/A | V70: =IF(P70<=PARTIDA!$D$16,"SI","NO") -> SI | X70: =IF(N70<10%, "CONFORMIDAD", "NO CONFORMIDAD") -> #N/A | Y70: =IF(N70<15%, "CONFORMIDAD", "NO CONFORMIDAD") -> #N/A | Z70: =IF(N70<20%, "CONFORMIDAD", "NO CONFORMIDAD") -> #N/A | AK70: =IF(U70<10%, "CONFORMIDAD", "NO CONFORMIDAD") -> #N/A | AL70: =IF(U70<15%, "CONFORMIDAD", "NO CONFORMIDAD") -> #N/A | AM70: =IF(U70<20%, "CONFORMIDAD", "NO CONFORMIDAD") -> #N/A | BL70: 0.1
G71: =+(F71-E71)*1440 -> 0 | H71: =VLOOKUP(D71,Tabla1[],2,FALSE) -> #N/A | I71: =+H71*G71 -> #N/A | K71: =+J71/1000 -> 0 | L71: =+K71/(I71/1000) -> #N/A | M71: =+L71*480/G71 -> #N/A | N71: =+(M71/3) -> #N/A | O71: =IF(J71<=PARTIDA!$D$7,"SI","NO") -> SI | Q71: =+P71/1000 -> 0 | R71: =+Q71/K71 -> #DIV/0! | S71: =+Q71/(I71/1000) -> #N/A | T71: =+S71*480/G71 -> #N/A | U71: =+(T71/0.05) -> #N/A | V71: =IF(P71<=PARTIDA!$D$16,"SI","NO") -> SI | X71: =IF(N71<10%, "CONFORMIDAD", "NO CONFORMIDAD") -> #N/A | Y71: =IF(N71<15%, "CONFORMIDAD", "NO CONFORMIDAD") -> #N/A | Z71: =IF(N71<20%, "CONFORMIDAD", "NO CONFORMIDAD") -> #N/A | AK71: =IF(U71<10%, "CONFORMIDAD", "NO CONFORMIDAD") -> #N/A | AL71: =IF(U71<15%, "CONFORMIDAD", "NO CONFORMIDAD") -> #N/A | AM71: =IF(U71<20%, "CONFORMIDAD", "NO CONFORMIDAD") -> #N/A | BL71: 0.1
G72: =+(F72-E72)*1440 -> 0 | H72: =VLOOKUP(D72,Tabla1[],2,FALSE) -> #N/A | I72: =+H72*G72 -> #N/A | K72: =+J72/1000 -> 0 | L72: =+K72/(I72/1000) -> #N/A | M72: =+L72*480/G72 -> #N/A | N72: =+(M72/3) -> #N/A | O72: =IF(J72<=PARTIDA!$D$7,"SI","NO") -> SI | Q72: =+P72/1000 -> 0 | R72: =+Q72/K72 -> #DIV/0! | S72: =+Q72/(I72/1000) -> #N/A | T72: =+S72*480/G72 -> #N/A | U72: =+(T72/0.05) -> #N/A | V72: =IF(P72<=PARTIDA!$D$16,"SI","NO") -> SI | X72: Si alguna de las anteriores es no conformidad y < del 15 %: "NO DECISIÓN" pasaremos a 4 mediciones | Y72: =IF(N72<15%, "CONFORMIDAD", "NO CONFORMIDAD") -> #N/A | Z72: =IF(N72<20%, "CONFORMIDAD", "NO CONFORMIDAD") -> #N/A | AK72: Si alguna de las anteriores es no conformidad y < del 15 %: "NO DECISIÓN" pasaremos a 4 mediciones | AL72: =IF(U72<15%, "CONFORMIDAD", "NO CONFORMIDAD") -> #N/A | AM72: =IF(U72<20%, "CONFORMIDAD", "NO CONFORMIDAD") -> #N/A | BL72: 0.1
B73: =+B69+121 -> 45413 | G73: =+(F73-E73)*1440 -> 0 | H73: =VLOOKUP(D73,Tabla1[],2,FALSE) -> #N/A | I73: =+H73*G73 -> #N/A | K73: =+J73/1000 -> 0 | L73: =+K73/(I73/1000) -> #N/A | M73: =+L73*480/G73 -> #N/A | N73: =+(M73/3) -> #N/A | O73: =IF(J73<=PARTIDA!$D$7,"SI","NO") -> SI | Q73: =+P73/1000 -> 0 | R73: =+Q73/K73 -> #DIV/0! | S73: =+Q73/(I73/1000) -> #N/A | T73: =+S73*480/G73 -> #N/A | U73: =+(T73/0.05) -> #N/A | V73: =IF(P73<=PARTIDA!$D$16,"SI","NO") -> SI | Y73: Si alguna de las anteriores es no conformidad y < del 20 %: "NO DECISIÓN" pasaremos a 4 mediciones | Z73: =IF(N73<20%, "CONFORMIDAD", "NO CONFORMIDAD") -> #N/A | AL73: Si alguna de las anteriores es no conformidad y < del 20 %: "NO DECISIÓN" pasaremos a 4 mediciones | AM73: =IF(U73<20%, "CONFORMIDAD", "NO CONFORMIDAD") -> #N/A | BL73: 0.1
B74: =+B73+123 -> 45536 | G74: =+(F74-E74)*1440 -> 0 | H74: =VLOOKUP(D74,Tabla1[],2,FALSE) -> #N/A | I74: =+H74*G74 -> #N/A | K74: =+J74/1000 -> 0 | L74: =+K74/(I74/1000) -> #N/A | M74: =+L74*480/G74 -> #N/A | N74: =+(M74/3) -> #N/A | O74: =IF(J74<=PARTIDA!$D$7,"SI","NO") -> SI | Q74: =+P74/1000 -> 0 | R74: =+Q74/K74 -> #DIV/0! | S74: =+Q74/(I74/1000) -> #N/A | T74: =+S74*480/G74 -> #N/A | U74: =+(T74/0.05) -> #N/A | V74: =IF(P74<=PARTIDA!$D$16,"SI","NO") -> SI | Z74: Si alguna de las pruebas superior al 20 %: "NO DECISIÓN" pasamos a prueba estadística | AM74: Si alguna de las pruebas superior al 20 %: "NO DECISIÓN" pasamos a prueba estadística | BL74: 0.1
BL75: 0.1
A76: Técnico de laboratorio | B76: 45292 | G76: =+(F76-E76)*1440 -> 0 | H76: =VLOOKUP(D76,Tabla1[],2,FALSE) -> #N/A | I76: =+H76*G76 -> #N/A | K76: =+J76/1000 -> 0 | L76: =+K76/(I76/1000) -> #N/A | M76: =+L76*480/G76 -> #N/A | N76: =+(M76/3) -> #N/A | O76: =IF(J76<=PARTIDA!$D$7,"SI","NO") -> SI | Q76: =+P76/1000 -> 0 | R76: =+Q76/K76 -> #DIV/0! | S76: =+Q76/(I76/1000) -> #N/A | T76: =+S76*480/G76 -> #N/A | U76: =+(T76/0.05) -> #N/A | V76: =IF(P76<=PARTIDA!$D$16,"SI","NO") -> SI | X76: =IF(N76<10%, "CONFORMIDAD", "NO CONFORMIDAD") -> #N/A | Y76: =IF(N76<15%, "CONFORMIDAD", "NO CONFORMIDAD") -> #N/A | Z76: =IF(N76<20%, "CONFORMIDAD", "NO CONFORMIDAD") -> #N/A | AE76: =COUNT(N76:N81) -> 0 | AG76: =VLOOKUP(AE76,Tabla2[],2,FALSE) -> #N/A | AH76: =IF(AF76>=AG76,"CONFORMIDAD","NO CONFORMIDAD") -> #N/A | AJ76: =+B81+(AI76*30) -> 45536 | AK76: =IF(U76<10%, "CONFORMIDAD", "NO CONFORMIDAD") -> #N/A | AL76: =IF(U76<15%, "CONFORMIDAD", "NO CONFORMIDAD") -> #N/A | AM76: =IF(U76<20%, "CONFORMIDAD", "NO CONFORMIDAD") -> #N/A | AR76: =COUNT(N76:N81) -> 0 | AT76: =VLOOKUP(AR76,Tabla2[],2,FALSE) -> #N/A | AU76: =IF(AS76>=AT76,"CONFORMIDAD","NO CONFORMIDAD") -> #N/A | AW76: =+B81+(AV76*30) -> 45536 | BL76: 0.1
G77: =+(F77-E77)*1440 -> 0 | H77: =VLOOKUP(D77,Tabla1[],2,FALSE) -> #N/A | I77: =+H77*G77 -> #N/A | K77: =+J77/1000 -> 0 | L77: =+K77/(I77/1000) -> #N/A | M77: =+L77*480/G77 -> #N/A | N77: =+(M77/3) -> #N/A | O77: =IF(J77<=PARTIDA!$D$7,"SI","NO") -> SI | Q77: =+P77/1000 -> 0 | R77: =+Q77/K77 -> #DIV/0! | S77: =+Q77/(I77/1000) -> #N/A | T77: =+S77*480/G77 -> #N/A | U77: =+(T77/0.05) -> #N/A | V77: =IF(P77<=PARTIDA!$D$16,"SI","NO") -> SI | X77: =IF(N77<10%, "CONFORMIDAD", "NO CONFORMIDAD") -> #N/A | Y77: =IF(N77<15%, "CONFORMIDAD", "NO CONFORMIDAD") -> #N/A | Z77: =IF(N77<20%, "CONFORMIDAD", "NO CONFORMIDAD") -> #N/A | AK77: =IF(U77<10%, "CONFORMIDAD", "NO CONFORMIDAD") -> #N/A | AL77: =IF(U77<15%, "CONFORMIDAD", "NO CONFORMIDAD") -> #N/A | AM77: =IF(U77<20%, "CONFORMIDAD", "NO CONFORMIDAD") -> #N/A | BL77: 0.1
G78: =+(F78-E78)*1440 -> 0 | H78: =VLOOKUP(D78,Tabla1[],2,FALSE) -> #N/A | I78: =+H78*G78 -> #N/A | K78: =+J78/1000 -> 0 | L78: =+K78/(I78/1000) -> #N/A | M78: =+L78*480/G78 -> #N/A | N78: =+(M78/3) -> #N/A | O78: =IF(J78<=PARTIDA!$D$7,"SI","NO") -> SI | Q78: =+P78/1000 -> 0 | R78: =+Q78/K78 -> #DIV/0! | S78: =+Q78/(I78/1000) -> #N/A | T78: =+S78*480/G78 -> #N/A | U78: =+(T78/0.05) -> #N/A | V78: =IF(P78<=PARTIDA!$D$16,"SI","NO") -> SI | X78: =IF(N78<10%, "CONFORMIDAD", "NO CONFORMIDAD") -> #N/A | Y78: =IF(N78<15%, "CONFORMIDAD", "NO CONFORMIDAD") -> #N/A | Z78: =IF(N78<20%, "CONFORMIDAD", "NO CONFORMIDAD") -> #N/A | AK78: =IF(U78<10%, "CONFORMIDAD", "NO CONFORMIDAD") -> #N/A | AL78: =IF(U78<15%, "CONFORMIDAD", "NO CONFORMIDAD") -> #N/A | AM78: =IF(U78<20%, "CONFORMIDAD", "NO CONFORMIDAD") -> #N/A | BL78: 0.1
G79: =+(F79-E79)*1440 -> 0 | H79: =VLOOKUP(D79,Tabla1[],2,FALSE) -> #N/A | I79: =+H79*G79 -> #N/A | K79: =+J79/1000 -> 0 | L79: =+K79/(I79/1000) -> #N/A | M79: =+L79*480/G79 -> #N/A | N79: =+(M79/3) -> #N/A | O79: =IF(J79<=PARTIDA!$D$7,"SI","NO") -> SI | Q79: =+P79/1000 -> 0 | R79: =+Q79/K79 -> #DIV/0! | S79: =+Q79/(I79/1000) -> #N/A | T79: =+S79*480/G79 -> #N/A | U79: =+(T79/0.05) -> #N/A | V79: =IF(P79<=PARTIDA!$D$16,"SI","NO") -> SI | X79: Si alguna de las anteriores es no conformidad y < del 15 %: "NO DECISIÓN" pasaremos a 4 mediciones | Y79: =IF(N79<15%, "CONFORMIDAD", "NO CONFORMIDAD") -> #N/A | Z79: =IF(N79<20%, "CONFORMIDAD", "NO CONFORMIDAD") -> #N/A | AK79: Si alguna de las anteriores es no conformidad y < del 15 %: "NO DECISIÓN" pasaremos a 4 mediciones | AL79: =IF(U79<15%, "CONFORMIDAD", "NO CONFORMIDAD") -> #N/A | AM79: =IF(U79<20%, "CONFORMIDAD", "NO CONFORMIDAD") -> #N/A | BL79: 0.1
B80: =+B76+121 -> 45413 | G80: =+(F80-E80)*1440 -> 0 | H80: =VLOOKUP(D80,Tabla1[],2,FALSE) -> #N/A | I80: =+H80*G80 -> #N/A | K80: =+J80/1000 -> 0 | L80: =+K80/(I80/1000) -> #N/A | M80: =+L80*480/G80 -> #N/A | N80: =+(M80/3) -> #N/A | O80: =IF(J80<=PARTIDA!$D$7,"SI","NO") -> SI | Q80: =+P80/1000 -> 0 | R80: =+Q80/K80 -> #DIV/0! | S80: =+Q80/(I80/1000) -> #N/A | T80: =+S80*480/G80 -> #N/A | U80: =+(T80/0.05) -> #N/A | V80: =IF(P80<=PARTIDA!$D$16,"SI","NO") -> SI | Y80: Si alguna de las anteriores es no conformidad y < del 20 %: "NO DECISIÓN" pasaremos a 4 mediciones | Z80: =IF(N80<20%, "CONFORMIDAD", "NO CONFORMIDAD") -> #N/A | AL80: Si alguna de las anteriores es no conformidad y < del 20 %: "NO DECISIÓN" pasaremos a 4 mediciones | AM80: =IF(U80<20%, "CONFORMIDAD", "NO CONFORMIDAD") -> #N/A | BL80: 0.1
B81: =+B80+123 -> 45536 | G81: =+(F81-E81)*1440 -> 0 | H81: =VLOOKUP(D81,Tabla1[],2,FALSE) -> #N/A | I81: =+H81*G81 -> #N/A | K81: =+J81/1000 -> 0 | L81: =+K81/(I81/1000) -> #N/A | M81: =+L81*480/G81 -> #N/A | N81: =+(M81/3) -> #N/A | O81: =IF(J81<=PARTIDA!$D$7,"SI","NO") -> SI | Q81: =+P81/1000 -> 0 | R81: =+Q81/K81 -> #DIV/0! | S81: =+Q81/(I81/1000) -> #N/A | T81: =+S81*480/G81 -> #N/A | U81: =+(T81/0.05) -> #N/A | V81: =IF(P81<=PARTIDA!$D$16,"SI","NO") -> SI | Z81: Si alguna de las pruebas superior al 20 %: "NO DECISIÓN" pasamos a prueba estadística | AM81: Si alguna de las pruebas superior al 20 %: "NO DECISIÓN" pasamos a prueba estadística | BL81: 0.1
BL82: 0.1

Sheet DATOS
B4: Bombas
B5: Muestreador | C5: Caudal
B6: PANAMETRICS | C6: 1.7
B7: SKC 2 | C7: 2
B8: GSM 2 | C8: 2
B9: SKC 2 | C9: 2
B10: CASELLA | C10: 2.2
B11: BGI 2,2 | C11: 2.2
B12: SKC 2,5 | C12: 2.5
B13: SKC 2,75 | C13: 2.75
B14: SKC 3 | C14: 3
B15: BGI 4,2 | C15: 4.2
B16: SKC 8 | C16: 8
B17: SKC 8 | C17: 4 y 8
B18: BGI 8,5 | C18: 8,5-9
B19: ARELCO 10 | C19: 10
B20: GSM 10 | C20: 10
B24: Número de mediciones de la exposición | C24: UT
B25: 6 | C25: 2.187
B26: 7 | C26: 2.12
B27: 8 | C27: 2.072
B28: 9 | C28: 2.035
B29: 10 | C29: 2.005
B30: 11 | C30: 1.981
B31: 12 | C31: 1.961
B32: 13 | C32: 1.944
B33: 14 | C33: 1.929
B34: 15 | C34: 1.917
B35: 16 | C35: 1.905
B36: 17 | C36: 1.895
... B49: 30 | C49: 1.82
