Workbook

Sheet Datos
A1: Responsables de implantación de medidas | C1: Prioridad (1)
A2: responsable ejempl. 1 | C2: Inmediata | D2: 1 | E2: Riesgo intolerable - Exposición por encima de VLA - No Conformidad - Aplicar de forma inmediata
C3: Corto plazo | D3: 2 | E3: Riesgo importante - < VLA - Evaluación NO DECISIÓN - proximas semanas
C4: Medio plazo | D4: 3 | E4: Riesgo tolerable - Exposición conforme sin asegurar el <50% del VLA - próximos meses
C5: Largo plazo | D5: 4 | E5: Mejoras adicionales - < 10% VLA - próximos meses
C6: Medida periódica | D6: 5 | E6: Ejemplo: formación - información - entrega de EPR - Rm
C11: (1) está se podrá adaptar a nuestra evalaución de riesgos
A27: Proveedores | B27: Persona de contacto | C27: Email | D27: Tlf
A28: Centro Tecnológico del Mármol, Piedra y Materiales | B28: Pedro Lozano | C28: pedro.lozano@ctmarmol.es | D28: 653948918
A29: Empresa cerramientos cintas transportadoras | B29: Contacto ejemplo | C29: fulanito@empresaejemplo.com | D29: 1234568789

Sheet Planificación preventiva
A1: PLANIFICACIÓN PREVENTIVA - CONTROL DEL POLVO Y SCR
A3: Área/centro de trabajo: | F3: Unidad
A4: Responsable área: | F4: Periodo | G4: 2024
F6: Recursos humanos, materiales y económicos | S6: Control y seguimiento | X6: Planificación estimada (3)
A7: Acción correctora | B7: Prioridad | C7: Tipo | D7: Responsable de implantación | F7: Recursos humanos empresa (1) | I7: Materiales necesarios empresa (2) | M7: Recursos materiales y humanos externos (proveedor) | Q7: Presupuesto inicial | R7: Presupuesto final | S7: Fecha prevista | T7: Fecha real | U7: En ejecución | V7: Realizado | W7: Informe (Ref) | X7: En | Y7: Fe | Z7: Ma | AA7: Ab | AB7: My | AC7: Jn | AD7: Jl | AE7: Ag | AF7: Sp | AG7: Oc | AH7: Nv | AI7: Dc
A8: Formación trabajadores | B8: 5 | C8: 3º TRABAJADOR | D8: responsable ejempl. 1 | F8: - | I8: - | M8: Centro Tecnológico del Mármol, Piedra y Materiales | Q8: 1500 | R8: 1500 | S8: 45417 | T8: 45417 | U8: NO | V8: SI
A9: Capotaje de cinta trasnportadora | B9: 3 | C9: 1º FOCO | D9: responsable ejempl. 1 | F9: - | I9: - | M9: Empresa cerramientos cintas transportadoras | Q9: 8500 | S9: 45510 | U9: SI | V9: NO
A40: (1) Recursos humanos empresa: personal necesario de la empresa para llevar a cabo la acción correctora
A41: (2) Materiales necesarios de la empresa para llevar a cabo la acción correctrora
A42: (3) Marcar de un color diferente los meses que apliquen

Sheet Análisis acciones correctoras
A1: ANÁISIS DE LAS ACCIONES CORRECTORAS
A3: Área/centro de trabajo: | F3: Unidad
A4: Responsable área: | F4: Periodo | G4: 2024
A7: Acción correctora | E7: Medición polvo anterior (mg/m3) | F7: Medición polvo anterior (mg/m3) | G7: Medición SCR anterior (mg/m3) | H7: Medición SCR anterior (mg/m3) | I7: Funciona | J7: Observaciones - Análisis
A8: ='Planificación preventiva'!A8 -> Formación trabajadores | E8: N/A | F8: N/A | G8: N/A | H8: N/A
A9: ='Planificación preventiva'!A9 -> Capotaje de cinta trasnportadora | E9: 4 | F9: 0.04
A10: ='Planificación preventiva'!A10 -> 0
A11: ='Planificación preventiva'!A11 -> 0
A12: ='Planificación preventiva'!A12 -> 0
A13: ='Planificación preventiva'!A13 -> 0
A14: ='Planificación preventiva'!A14 -> 0
A15: ='Planificación preventiva'!A15 -> 0
A16: ='Planificación preventiva'!A16 -> 0
A17: ='Planificación preventiva'!A17 -> 0
A18: ='Planificación preventiva'!A18 -> 0
A19: ='Planificación preventiva'!A19 -> 0
A20: ='Planificación preventiva'!A20 -> 0
A21: ='Planificación preventiva'!A21 -> 0
... A38: ='Planificación preventiva'!A38 -> 0
A40: (1) Recursos humanos empresa: personal necesario de la empresa para llevar a cabo la acción correctora
A41: (2) Materiales necesarios de la empresa para llevar a cabo la acción correctrora
A42: (3) Marcar de un color diferente los meses que apliquen
